BEGIN:VCALENDAR
VERSION:2.0
PRODID:-//wp-events-plugin.com//7.2.3.1//EN
TZID:Europe/Berlin
X-WR-TIMEZONE:Europe/Berlin
BEGIN:VEVENT
UID:3427@lilabi.net
DTSTART;TZID=Europe/Berlin:20200918T180000
DTEND;TZID=Europe/Berlin:20200918T200000
DTSTAMP:20200814T130317Z
URL:https://www.lilabi.net/events/bigbrotherawards-2020-auch-im-livestream
 /
SUMMARY:BigBrotherAwards 2020 – auch im Livestream!
DESCRIPTION:Spannend\, unterhaltsam und gut verständlich werden die ‚Osc
 ars für Datenkraken' (Le Monde) an die größten Datensünder des letzten
  Jahres vergeben. Eine Jury aus prominenten Bürgerrechtlern verleiht jäh
 rlich diesen Datenschutz-Negativpreis an Firmen\, Organisationen und Polit
 iker.innen.\nEin Abend der gelebten Politik mit den Mitteln des Theaters\,
  geschliffener Rede\, Musik und Tanz.\nWir verleihen die BigBrotherAwards 
 2020 am 18. September in der Hechelei in Bielefeld.\nAufgrund des begrenzt
 en Ticketkontingents dieses Jahr\, ist die Veranstaltung leider schon ausv
 erkauft.\nSie können die Verleihung LIVE über den folgenden Streaming-Li
 nk verfolgen:\nLivestream:\nbigbrotherawards.de/stream\nDer Livestream sta
 rtet am Veranstaltungstag um 17:45 lokaler Zeit (15:45 UTC).
ATTACH;FMTTYPE=image/jpeg:https://www.lilabi.net/wp-content/uploads/2020/0
 8/BBA.09.2020-Grafik-613x301pxklein.png
CATEGORIES:Vortrag
LOCATION:Hechelei\, Ravensberger Park 6\, Bielefeld\, Deutschland
X-APPLE-STRUCTURED-LOCATION;VALUE=URI;X-ADDRESS=Ravensberger Park 6\, Biele
 feld\, Deutschland;X-APPLE-RADIUS=100;X-TITLE=Hechelei:geo:0,0
END:VEVENT
BEGIN:VTIMEZONE
TZID:Europe/Berlin
X-LIC-LOCATION:Europe/Berlin
BEGIN:DAYLIGHT
DTSTART:20200329T030000
TZOFFSETFROM:+0100
TZOFFSETTO:+0200
TZNAME:CEST
END:DAYLIGHT
END:VTIMEZONE
END:VCALENDAR