BEGIN:VCALENDAR
VERSION:2.0
PRODID:-//wp-events-plugin.com//7.2.3.1//EN
TZID:Europe/Berlin
X-WR-TIMEZONE:Europe/Berlin
BEGIN:VEVENT
UID:5878@lilabi.net
DTSTART;TZID=Europe/Berlin:20250222T100000
DTEND;TZID=Europe/Berlin:20250301T180000
DTSTAMP:20250211T125232Z
URL:https://www.lilabi.net/events/bielefeld-creatives-kunst-musik-design-m
 arkt-im-pop-up-store/
SUMMARY:Bielefeld Creatives | Kunst-\, Musik- &amp\; Design-Markt im Pop-up
 -Store
DESCRIPTION:Der "Bielefeld Creatives“ Kunst-\, Musik- &amp\; Design-Markt
  verwandelt den aktuellen Pop-up-Store von "Wandeliar &amp\; studio.HIER" 
 für eine Woche in eine inspirierende Ausstellungs- und Verkaufsfläche.\n
 \nDas Ladenschäft auf Zeit in der Altstadt (Obernstraße 43) mit dem neu 
 entwickelten modularen Möbelsystem von "Wandeliar" und der slow-fashion-M
 ode von "studio.HIER" bekommt Zuwachs von Bielefelder Kunstschaffenden:\n\
 nVom 22. Februar bis zum 1. März 2025 präsentieren rund 20 lokale Künst
 ler:innen\, Designer:innen und Musiker:innen ihre Werke – von Malerei un
 d Illustration über Mode\, Keramik und Schmuck bis hin zu handgefertigten
  Designstücken.\n\nDas Opening findet am Samstag\, den 22.02 statt: Um 13
  Uhr stellen sich die teilnehmenden Künstler:innen vor\, anschließend so
 rgt die musikalische Begleitung durch DJ Artist Mohtheshow für eine beson
 dere Atmosphäre.\nZusätzlich wird an diesem Tag nicht nur die kreative V
 ielfalt Bielefelds gefeiert\, sondern auch die Verlängerung des Pop-up-St
 ores bis Ende Juli 2025 – ein großartiger Anlass für Austausch\, Inspi
 ration und neue Ideen!\n\n"Bielefeld Creatives“ soll den zur Verfügung 
 stehenden Raum bestmöglich nutzen und eine Plattform für kreative Köpfe
  schaffen. Das Ziel: Mehr Sichtbarkeit und Vernetzung für lokale Künstle
 r:innen – egal ob Newcomer oder etablierte Kreative\, die bereits von ih
 rer Kunst leben.\n\n&nbsp\;
ATTACH;FMTTYPE=image/jpeg:https://www.lilabi.net/wp-content/uploads/2025/0
 2/BildMitTextUndLogo-small1000px.jpeg
CATEGORIES:Ausstellung,Sonstiges
END:VEVENT
BEGIN:VTIMEZONE
TZID:Europe/Berlin
X-LIC-LOCATION:Europe/Berlin
BEGIN:STANDARD
DTSTART:20241027T020000
TZOFFSETFROM:+0200
TZOFFSETTO:+0100
TZNAME:CET
END:STANDARD
END:VTIMEZONE
END:VCALENDAR