BEGIN:VCALENDAR
VERSION:2.0
PRODID:-//wp-events-plugin.com//7.2.3.1//EN
TZID:Europe/Berlin
X-WR-TIMEZONE:Europe/Berlin
BEGIN:VEVENT
UID:3730@lilabi.net
DTSTART;TZID=Europe/Berlin:20220621T160000
DTEND;TZID=Europe/Berlin:20220621T190000
DTSTAMP:20220529T090622Z
URL:https://www.lilabi.net/events/betroffenensupport-und-betroffenenselbst
 organisation-bei-sexualisierter-gewalt-mit-gegen_gewalt/
SUMMARY:Betroffenensupport und Betroffenenselbstorganisation bei sexualisie
 rter Gewalt/mit Gegen_Gewalt
DESCRIPTION:Ankündigunstext:\nSexualisierte Gewalt führt in den meisten F
 ällen zu massiver Ohnmacht\, Überforderung\, Frust und Hilflosigkeit - f
 ür betroffene Personen und ihre Umfelder. Einen Umgang mit derartigen Sit
 uationen haben die wenigsten gelernt. Wir wollen im Workshop erste Impulse
    geben\, wie wir mit unseren Gefühlen umgehen und hilfreiche Unterst
 ützung anbieten können. Wir ergründen\, welche sozialen Dynamiken als A
 ntwort auf sexualisierte Gewalt entstehen (Victim Blaming\, Täterschutz e
 tc.) und wie diese mit den psychosozialen Folgen der betroffenen Personen 
 verschränkt sind. Gemeinsam suchen wir nach Ansatzpunkten\, wie wir einer
 seits hilfreich unterstützen können und andererseits Dynamiken von „Ra
 pe Culture“ entgegen wirken. Abschließend diskutieren wir\, wie wir mit
  der Tatsache umgehen\, dass es meist betroffene Personen sind\, die ander
 e betroffene Personen unterstützen\, die         Auseinandersetzu
 ng in Umfeldern anstoßen und den Aufbau von Strukturen vorantreiben. \n
       \nAwarenessnotes: Über sexualisierte Gewalt sprechen und davo
 n zu hören kann belastend und aufwühlend sein. Wir werden in dem Worksho
 p keine expliziten Gewaltschilderungen besprechen. Wir wünschen uns einen
  Raum\, der sensibel genug ist\, dass eine Teilnahme nicht nur „auszuhal
 ten“ sondern wirklich möglich ist - und im besten Fall bestärkend für
  betroffene Personen. Daneben sind Awareness-Ansprechpersonen während und
  nach der Veranstaltung bei belastenden Situationen für euch da.\n   
  \nzu Gegen_Gewalt:\nGegen_Gewalt ist ein Bildungs- und Beratungskollekti
 v aus Würzburg\, das rund um den Themenkomplex „kollektive und emanzipa
 torische Umgänge mit sexualisierter Gewalt“ arbeitet. Neben Bildungsarb
 eit und Prozessbegleitungen hat Gegen_Gewalt die Broschüre „Wi(e)dersta
 nd nach dem Fall - Impulse für einen kollektiven Umgang mit sexualisierte
 r Gewalt“ veröffentlicht. Die Referent*innen vom Workshop sind /weiß/\
 , queer und nicht be_hindert positioniert.\n\nBarrieren:\n\nCoronabedingt 
 ist es eine Voraussetzung für die Teilnahme\, dass Menschen sich schnellt
 esten\, bevor sie in die Veranstaltungen kommen. \nBitte meldet euch auß
 erdem vorher an. Das könnt ihr über die folgende Mailadresse machen: pol
 itische-bildung@asta-bielefeld.de\nDie Veranstaltungen sind in ihrer Teiln
 ehmer*innenzahl begrenzt.\nZum Workshop sind alle eingeladen.Sie finden in
  deutscher Lautsprache statt.\nDie Wege zu den Räumen sind barrierearm. T
 atsächlich sind die Nummerierungen und Wege aber schwer nachvollziehbar. 
 Sagt gern Bescheid\, wenn ihr irgendwo abgeholt werden wollt.\nBei dem Wor
 kshop zu Betroffenenunterstützung und Betroffenselbstorganisation wird ei
 n Awarenessteam während und nach dem Workshop für euch ansprechbar sein.
  Das Awarenessteam wird vom Cafe´ Anaconda gestellt.\n
CATEGORIES:Workshop
LOCATION:Uni Bielefeld V2-105/115\, Universitätsstr. 25\, Bielefeld\, Deut
 schland
X-APPLE-STRUCTURED-LOCATION;VALUE=URI;X-ADDRESS=Universitätsstr. 25\, Biel
 efeld\, Deutschland;X-APPLE-RADIUS=100;X-TITLE=Uni Bielefeld V2-105/115:ge
 o:0,0
END:VEVENT
BEGIN:VTIMEZONE
TZID:Europe/Berlin
X-LIC-LOCATION:Europe/Berlin
BEGIN:DAYLIGHT
DTSTART:20220327T030000
TZOFFSETFROM:+0100
TZOFFSETTO:+0200
TZNAME:CEST
END:DAYLIGHT
END:VTIMEZONE
END:VCALENDAR