BEGIN:VCALENDAR
VERSION:2.0
PRODID:-//wp-events-plugin.com//7.2.3.1//EN
TZID:Europe/Berlin
X-WR-TIMEZONE:Europe/Berlin
BEGIN:VEVENT
UID:3196@lilabi.net
DTSTART;TZID=Europe/Berlin:20201208T000000
DTEND;TZID=Europe/Berlin:20201208T000000
DTSTAMP:20200615T082322Z
URL:https://www.lilabi.net/events/beratungsangebot-der-roten-hilfe-bielefe
 ld-2020-12-08/
SUMMARY:Beratungsangebot der Roten Hilfe Bielefeld
DESCRIPTION:Auch in Zeiten der Corona-Pandemie sind wir für euch da! Leide
 r können wir bis auf weiteres keine offene Sprechstunde anbieten. Bitte w
 endet euch per Email (bielefeld@rote-hilfe.de - Schlüssel auf Anfrage) an
  uns\, wenn ihr Beratungsbedarf habt und wir vereinbaren ein persönliches
  Treffen.\n\nEure Rote Hilfe
CATEGORIES:Soli
END:VEVENT
BEGIN:VTIMEZONE
TZID:Europe/Berlin
X-LIC-LOCATION:Europe/Berlin
BEGIN:STANDARD
DTSTART:20201025T020000
TZOFFSETFROM:+0200
TZOFFSETTO:+0100
TZNAME:CET
END:STANDARD
END:VTIMEZONE
END:VCALENDAR