BEGIN:VCALENDAR
VERSION:2.0
PRODID:-//wp-events-plugin.com//7.2.3.1//EN
TZID:Europe/Berlin
X-WR-TIMEZONE:Europe/Berlin
BEGIN:VEVENT
UID:3194@lilabi.net
DTSTART;TZID=Europe/Berlin:20201013T000000
DTEND;TZID=Europe/Berlin:20201013T000000
DTSTAMP:20200615T082322Z
URL:https://www.lilabi.net/events/beratungsangebot-der-roten-hilfe-bielefe
 ld-2020-10-13/
SUMMARY:Beratungsangebot der Roten Hilfe Bielefeld
DESCRIPTION:Auch in Zeiten der Corona-Pandemie sind wir für euch da! Leide
 r können wir bis auf weiteres keine offene Sprechstunde anbieten. Bitte w
 endet euch per Email (bielefeld@rote-hilfe.de - Schlüssel auf Anfrage) an
  uns\, wenn ihr Beratungsbedarf habt und wir vereinbaren ein persönliches
  Treffen.\n\nEure Rote Hilfe
CATEGORIES:Soli
END:VEVENT
BEGIN:VTIMEZONE
TZID:Europe/Berlin
X-LIC-LOCATION:Europe/Berlin
BEGIN:DAYLIGHT
DTSTART:20200329T030000
TZOFFSETFROM:+0100
TZOFFSETTO:+0200
TZNAME:CEST
END:DAYLIGHT
END:VTIMEZONE
END:VCALENDAR