BEGIN:VCALENDAR
VERSION:2.0
PRODID:-//wp-events-plugin.com//7.2.3.1//EN
TZID:Europe/Berlin
X-WR-TIMEZONE:Europe/Berlin
BEGIN:VEVENT
UID:3512@lilabi.net
DTSTART;TZID=Europe/Berlin:20210906T000000
DTEND;TZID=Europe/Berlin:20210906T000000
DTSTAMP:20210502T090148Z
URL:https://www.lilabi.net/events/beratungsangebot-der-roten-hilfe-bielefe
 ld-2-2021-09-06/
SUMMARY:Beratungsangebot der Roten Hilfe Bielefeld
DESCRIPTION:Die Rote Hilfe e.V. ist eine linke Schutz- und Solidaritätsorg
 anisation\, die Menschen unterstützt\, die aufgrund ihrer politischen Akt
 ivitäten staatliche Repression erfahren. In der Regel zahlen wir 50% der 
 Gesamtkosten (Strafgelder und für die/ den Rechtsanwält:in).\n\nLeider k
 önnen wir zur Zeit keine offene Sprechstunde anbieten\, aber auch in Zeit
 en der Pandemie sind wir für euch da!\n\nWenn ihr nach einer politischen 
 Aktion z.B. einen Bußgeldbescheid\, einen Strafbefehl oder eine Vorladung
  bekommen habt\, wenn ihr Beratungsbedarf habt\, Fragen zu eurem Unterstü
 tzungsantrag oder Interesse an aktiver Mitarbeit\, meldet euch\, am besten
  per Mail (Schlüssel schicken wir auf Anfrage zügig zu) oder per Nachric
 ht ins Postfach in der Bürger:innenwache. Wir können dann ein Treffen ve
 reinbaren.\n\nSolidarität ist unsere Waffe – schafft Rote Hilfe!\n\nRot
 e Hilfe e.V.\nOrtsgruppe Bielefeld\nc/o Bürger:innenwache\nRolandstr. 16\
 n33615 Bielefeld\n\nbielefeld (ät) rote-hilfe.de
CATEGORIES:Soli
END:VEVENT
BEGIN:VTIMEZONE
TZID:Europe/Berlin
X-LIC-LOCATION:Europe/Berlin
BEGIN:DAYLIGHT
DTSTART:20210328T030000
TZOFFSETFROM:+0100
TZOFFSETTO:+0200
TZNAME:CEST
END:DAYLIGHT
END:VTIMEZONE
END:VCALENDAR