BEGIN:VCALENDAR
VERSION:2.0
PRODID:-//wp-events-plugin.com//7.2.3.1//EN
TZID:Europe/Berlin
X-WR-TIMEZONE:Europe/Berlin
BEGIN:VEVENT
UID:5674@lilabi.net
DTSTART;TZID=Europe/Berlin:20240615T113000
DTEND;TZID=Europe/Berlin:20240615T173000
DTSTAMP:20240521T161028Z
URL:https://www.lilabi.net/events/bautag-petristr-2-2/
SUMMARY:Bautag Petristr. 2
DESCRIPTION:Die Petristr. 2 lädt wieder zu einem Bautag ein.\n\nEs werden 
 Tapeten von den Wänden geholt\, Beläge von den Böden genommen und noch 
 ein-zwei Kellerräume ausgeräumt.\n\nEs gibt Limos und Snacks!\nZieht euc
 h eure Schmuddelsachen an und kommt vorbei. Wir freuen uns!
ATTACH;FMTTYPE=image/jpeg:https://www.lilabi.net/wp-content/uploads/2024/0
 5/photo_2024-05-21_17-08-01.jpg
CATEGORIES:DIY,Sonstiges
LOCATION:Petristraße 2\, Petristraße 2\, Bielefeld\, 33609\, Deutschland
X-APPLE-STRUCTURED-LOCATION;VALUE=URI;X-ADDRESS=Petristraße 2\, Bielefeld\
 , 33609\, Deutschland;X-APPLE-RADIUS=100;X-TITLE=Petristraße 2:geo:0,0
END:VEVENT
BEGIN:VTIMEZONE
TZID:Europe/Berlin
X-LIC-LOCATION:Europe/Berlin
BEGIN:DAYLIGHT
DTSTART:20240331T030000
TZOFFSETFROM:+0100
TZOFFSETTO:+0200
TZNAME:CEST
END:DAYLIGHT
END:VTIMEZONE
END:VCALENDAR