BEGIN:VCALENDAR
VERSION:2.0
PRODID:-//wp-events-plugin.com//7.2.3.1//EN
TZID:Europe/Berlin
X-WR-TIMEZONE:Europe/Berlin
BEGIN:VEVENT
UID:3470@lilabi.net
DTSTART;TZID=Europe/Berlin:20201212T140000
DTEND;TZID=Europe/Berlin:20201212T170000
DTSTAMP:20201210T091253Z
URL:https://www.lilabi.net/events/bagger-besetzen-danni-verteidigen-wald-s
 tatt-polizeigewalt/
SUMMARY:Bagger besetzen - Danni verteidigen: Wald statt Polizeigewalt
DESCRIPTION:Dienstag wurde das letzte Baumhaus im Barrio Oben geschlagen. D
 amit ist die Schneise durch den Dannenröder Forst vollendet – ein Bild 
 der Zerstörung! Doch für uns ist klar: Es ist noch nicht vorbei! Der Dan
 ni ist mehr als irgendein bis dato gesunder Mischwald\, der gerodet wurde.
  Er ist zum Symbol geworden für eine Politik\, die unfähig ist die Klima
 krise anzugehen. Symbol für ein Wirtschaften\, welches alles dem Profit u
 nterwirft\, auch wenn es dann kein Morgen mehr gibt. Und unsere Wut über 
 die Brutalität\, mit welcher die Cops die Rodung durchgesetzt haben\, wir
 d so schnell nicht nachlassen. Aber trotzdem hat die Klimagerechtigkeitsbe
 wegung gezeigt\, wie stark sie ist. Wir werden weiterkämpfen\, für jeden
  Baum\, jedes Dorf und gegen das System\, welches solche zerstörerischen 
 Projekte hervorbringt. \n\nSamstag wollen wir unseren Protest auf die Str
 aße bringen. Wir sind da und bleiben laut - gegen die Zerstörung und ihr
 e gut bezahlten Hooligans.\n\nSAMSTAG 12.12. - 14:00 UHR - BIELEFELD HAUPT
 BAHNHOF \n\nMit Maske und Abstand :)
ATTACH;FMTTYPE=image/jpeg:https://www.lilabi.net/wp-content/uploads/2020/1
 2/Demo-Danni-Beitrag.jpg
CATEGORIES:Demo
LOCATION:Hauptbahnhof\, Bahnhofsvorplatz\, Bielefeld\, Deutschland
X-APPLE-STRUCTURED-LOCATION;VALUE=URI;X-ADDRESS=Bahnhofsvorplatz\, Bielefel
 d\, Deutschland;X-APPLE-RADIUS=100;X-TITLE=Hauptbahnhof:geo:0,0
END:VEVENT
BEGIN:VTIMEZONE
TZID:Europe/Berlin
X-LIC-LOCATION:Europe/Berlin
BEGIN:STANDARD
DTSTART:20201025T020000
TZOFFSETFROM:+0200
TZOFFSETTO:+0100
TZNAME:CET
END:STANDARD
END:VTIMEZONE
END:VCALENDAR