BEGIN:VCALENDAR
VERSION:2.0
PRODID:-//wp-events-plugin.com//7.2.3.1//EN
TZID:Europe/Berlin
X-WR-TIMEZONE:Europe/Berlin
BEGIN:VEVENT
UID:4403@lilabi.net
DTSTART;TZID=Europe/Berlin:20220929T190000
DTEND;TZID=Europe/Berlin:20220929T213000
DTSTAMP:20220915T112044Z
URL:https://www.lilabi.net/events/autorinnenlesung/
SUMMARY:Autorinnenlesung
DESCRIPTION:Lina Atfah – Grabtuch aus Schmetterlingen – Gedichte aus Sy
 rien\n\nDie Lyrikerin Lina Atfah liest syrische Gedichte und stellt ihren 
 neuen Geedichtband vor. Aiga Kornemann liest die deutsche Übersetzung\, E
 ren Aksahin begleitet die Lesung musikalisch. \n\nLina Atfah\, geboren 198
 9 in Salamiyah\, Syrien\, studierte arabische Literatur in Damaskus. Seit 
 2014 wohnt sie in Herne\, nachdem sie Syrien aus politischen Gründen verl
 assen musste. Seit 2017 beteiligt sich Atfah am Projekt »Weiterschreiben
 «\, bei dem sie bis heute mit ihrer Tandempartnertin Nino Haratischwili u
 nd anderen deutschen Autor:innen und Übersetzer:innen zusammenarbeitet. 2
 017 erhielt sie den Hertha-Koenig-Förderpreis für junge Schriftstellerin
 nen\, nach einer Nominierung von Nino Haratischwili. 2019 erschien ihr ers
 ter zweisprachiger Gedichtband in Deutschland\, »Das Buch von der fehlend
 en Ankunft«\, der mit dem LiBeraturpreis 2020 für das beste ins Deutsche
  übersetzte Buch ausgezeichnet wurde. 2021 folgte ein Aufenthaltsstipendi
 um im Künstlerhaus Edenkoben. Ende September 2022 erscheint ihr neuster L
 yrikband »Grabtuch aus Schmetterlingen«. \n\nAbendkasse: 8 / 5 (erm.) Eu
 ro\n\nDie BesucherInnenzahl ist begrenzt. Voranmeldung unter:\nkultur@bi-b
 uergerwache.de \n\nVeranstalter: Bürgerinitiative Bürgerwache e.V. in Ko
 operation mit dem Pendragon Verlag.\n\n 
ATTACH;FMTTYPE=image/jpeg:https://www.lilabi.net/wp-content/uploads/2022/0
 9/22-09-29-atfah-web-klein.jpg
CATEGORIES:Buchvorstellung,Lesung
LOCATION:Bürger*innenwache Siegfriedplatz\, Rolandstr. 16\, 33615 Bielefel
 d\, Deutschland
X-APPLE-STRUCTURED-LOCATION;VALUE=URI;X-ADDRESS=Rolandstr. 16\, 33615 Biele
 feld\, Deutschland;X-APPLE-RADIUS=100;X-TITLE=Bürger*innenwache Siegfried
 platz:geo:0,0
END:VEVENT
BEGIN:VTIMEZONE
TZID:Europe/Berlin
X-LIC-LOCATION:Europe/Berlin
BEGIN:DAYLIGHT
DTSTART:20220327T030000
TZOFFSETFROM:+0100
TZOFFSETTO:+0200
TZNAME:CEST
END:DAYLIGHT
END:VTIMEZONE
END:VCALENDAR