BEGIN:VCALENDAR
VERSION:2.0
PRODID:-//wp-events-plugin.com//7.2.3.1//EN
TZID:Europe/Berlin
X-WR-TIMEZONE:Europe/Berlin
BEGIN:VEVENT
UID:4464@lilabi.net
DTSTART;TZID=Europe/Berlin:20221215T190000
DTEND;TZID=Europe/Berlin:20221215T210000
DTSTAMP:20221121T141124Z
URL:https://www.lilabi.net/events/autorinnenlesung-und-buchvorstellungen/
SUMMARY:Autorinnenlesung und Buchvorstellungen
DESCRIPTION:»Lesung mit gleichnamigem Titel«\n\nunter diese Titel präsen
 tieren die AutorInnen ihre neusten Buchveröffentlichungen:\n\n 	Nicolas B
 röggelwirth - »Ostwestfälische Gespräche«\n 	Kerstin Honerkamp – »
 Platzangst«\n\nNicolas Bröggelwirth hat den Menschen seiner Heimat genau
  auf den Mund geschaut. Mit satirischer Präzision und einer Menge analyti
 scher Freude beschreibt er in seinem Buch »Ostwestfälische Gespräche« 
 die Bewohner jener Gegend zwischen lakonischer Freude und selbstredenden D
 ialogen. Die Gespräche und Situationen sind nicht selten wie die Beschrie
 benen selbst: Oft verwirrt\, voller Missverständnisse\, aber meist eben d
 och von einer Herzlichkeit\, die sich einfach nicht nach Außen zeigen lä
 sst. \n\nIn ihrem Buch »Platzangst« erzählt Kerstin Honerkamp die Gesch
 ichte einer jungen Frau aus Bünde\, die mit dem falschen Mann liiert ist.
  Auf einer Insel lernt sie Manuel kennen. Ein paar erotische Abenteuer sp
 äter kann sie nicht mehr aufhören\, pausenlos an ihn zu denken. Und auch
  bei Manuel ist die Liebe zu ihr erwacht. Die Lösung scheint ganz einfach
 . Wird sie die Sicherheit in der Gefangenschaft ihrer Träume gegen die Un
 sicherheit im wahren Leben tauschen können? \nAuf die Zuschauer wartet ei
 n unterhaltsamer Abend\, der aber auch mal ernste Töne anschlagen kann.\n
 Kerstin Honerkamp (*1969) kam in Fürstenau zur Welt und wuchs in Vlotho a
 uf\, bevor sie längere Zeit in Rödinghausen und Melle wohnte. Heute lebt
  sie in Bünde. 2007 erschien ihr Debut-Roman »Zwischen den Stühlen«. H
 onerkamp schreibt seit ihrer Jugend\, veröffentlichte in diversen Zeitsch
 riften und schrieb zahlreiche Theaterstücke für Kinder und Erwachsene. (
 www.kerstinhonerkamp.de) \n\nNicolas Bröggelwirth (*1975) wurde zwar in H
 erford geboren\, ist aber Bünder durch und durch\, solange man ihn nicht 
 in einer größeren Stadt wohnen lässt. Als Journalist arbeitet er heute 
 bei einer heimischen Zeitung. Für sein Schaffen beim Radio erhielt er den
  »Bobby« der Deutschen Hörfunkakademie.(www.nicolas-broeggelwirth.de) \
 n\n 	Stadtteilzentrum Bürgerwache am Siegfriedplatz\, Rolandstr. 16\, 336
 15 Bielefeld\n 	Donnerstag\, 15.12.2022\n 	Saal (Raum 007\, EG)\, \n 	19:0
 0 Uhr / Einlass 18:30 Uhr\n 	Abendkasse: 8 / 5 (erm.) Euro\n\nVeranstalter
 : BI Bürgerwache e.V.\n\nDie BesucherInnenzahl ist begrenzt. \n\nVoranmel
 dung unter: kultur@bi-buergerwache.de 
ATTACH;FMTTYPE=image/jpeg:https://www.lilabi.net/wp-content/uploads/2022/1
 1/22-12-15dez-web-klein.jpg
CATEGORIES:Buchvorstellung,Lesung
LOCATION:Bürger*innenwache Siegfriedplatz\, Rolandstr. 16\, 33615 Bielefel
 d\, Deutschland
X-APPLE-STRUCTURED-LOCATION;VALUE=URI;X-ADDRESS=Rolandstr. 16\, 33615 Biele
 feld\, Deutschland;X-APPLE-RADIUS=100;X-TITLE=Bürger*innenwache Siegfried
 platz:geo:0,0
END:VEVENT
BEGIN:VTIMEZONE
TZID:Europe/Berlin
X-LIC-LOCATION:Europe/Berlin
BEGIN:STANDARD
DTSTART:20221030T020000
TZOFFSETFROM:+0200
TZOFFSETTO:+0100
TZNAME:CET
END:STANDARD
END:VTIMEZONE
END:VCALENDAR