BEGIN:VCALENDAR
VERSION:2.0
PRODID:-//wp-events-plugin.com//7.2.3.1//EN
TZID:Europe/Berlin
X-WR-TIMEZONE:Europe/Berlin
BEGIN:VEVENT
UID:6404@lilabi.net
DTSTART;TZID=Europe/Berlin:20251007T170000
DTEND;TZID=Europe/Berlin:20251007T183000
DTSTAMP:20250929T095640Z
URL:https://www.lilabi.net/events/austausch-und-spieletreff-demokratiebild
 ung/
SUMMARY:Austausch und Spieletreff Demokratiebildung
DESCRIPTION:In diesem Austausch &amp\; Spieletreff testen wir gemeinsam Spi
 ele und Materialien der politischen Bildung an uns selbst aus. Wir nehmen 
 uns gemeinsam die Angst vorm Neuen und sprechen darüber\, wie neue Lehr- 
 und Lernmethoden zum Einsatz kommen könnten\, wo Schwierigkeiten in der U
 msetzung zu erwarten sind\, usw.\nDas Angebot richtet sich an alle! Ob Kur
 sleitung\, Sozialarbeit\, oder administrative Tätigkeiten\, egal welche A
 ltersklasse oder Bildungsgrad. Demokratie geht alle etwas an!\n&nbsp\;\nSt
 adtteilzentrum Grüner Würfel (Kesselbrink 2\, 33602 Bielefeld)\nDiensta
 g\, 07.10.2025. 17:00 bis ungefähr 18:30\nKontakt: 0162 1389575\, L.knop
 p@awo-bielefeld.de
CATEGORIES:Sonstiges
LOCATION:Grüner Würfel\, Bistro Keimzeit im Erdgeschoss\, Kesselbrink 2\,
  33602 Bielefeld\, Bielefeld\, Deutschland
X-APPLE-STRUCTURED-LOCATION;VALUE=URI;X-ADDRESS=Kesselbrink 2\, 33602 Biele
 feld\, Bielefeld\, Deutschland;X-APPLE-RADIUS=100;X-TITLE=Grüner Würfel\
 , Bistro Keimzeit im Erdgeschoss:geo:0,0
END:VEVENT
BEGIN:VTIMEZONE
TZID:Europe/Berlin
X-LIC-LOCATION:Europe/Berlin
BEGIN:DAYLIGHT
DTSTART:20250330T030000
TZOFFSETFROM:+0100
TZOFFSETTO:+0200
TZNAME:CEST
END:DAYLIGHT
END:VTIMEZONE
END:VCALENDAR