BEGIN:VCALENDAR
VERSION:2.0
PRODID:-//wp-events-plugin.com//7.2.3.1//EN
TZID:Europe/Berlin
X-WR-TIMEZONE:Europe/Berlin
BEGIN:VEVENT
UID:3703@lilabi.net
DTSTART;TZID=Europe/Berlin:20220410T133000
DTEND;TZID=Europe/Berlin:20220410T160000
DTSTAMP:20220329T125939Z
URL:https://www.lilabi.net/events/ausflug-ins-historische-museum-frauenbew
 egt-frauen-auf-vinyl/
SUMMARY:Ausflug ins Historische Museum (Frauenbewegt - Frauen auf Vinyl)
DESCRIPTION:Ausflug ins Historische Museum\n\nIm Historischen Museum werden
  aktuellen die Ausstellungen „Frauenbewegt“ und „Frauen auf Vinyl“
  gezeigt. Wir wollen zusammen dorthin gehen und danach im Ravensberger Par
 k gemeinsam über beide Ausstellungen quatschen (z.B darüber was wir gut 
 oder schlecht fanden). Limo und Snacks dafür stellen wir und übernehmen 
 außerdem den Eintritt. Treffpunkt ist am 10.04.22 um 13:30 vor dem Histor
 ischen Museum (Ravensberger Park 2\, 33607 Bielefeld). Die Veranstaltung i
 st offen für alle Geschlechter. Wir bitten euch davor einen Test zu mache
 n (auch als Geimpft/Genesene Person).\n\nInfos zu den Ausstellungen findet
  ihr hier:\nFrauenbewegt: https://www.historisches-museum-bielefeld.de/202
 2/02/14/vorschau-sonderausstellung-frauenbewegt/\n\nFrauen auf Vinyl: http
 s://www.historisches-museum-bielefeld.de/2022/02/14/frauen-auf-vinyl-ein-a
 usstellungsrundgang-durch-70-jahre-weibliche-popkultur/
CATEGORIES:Ausstellung
LOCATION:Historisches Museum\, Ravensberger Park 2\, Bielefeld\, 33607\, De
 utschland
X-APPLE-STRUCTURED-LOCATION;VALUE=URI;X-ADDRESS=Ravensberger Park 2\, Biele
 feld\, 33607\, Deutschland;X-APPLE-RADIUS=100;X-TITLE=Historisches Museum:
 geo:0,0
END:VEVENT
BEGIN:VTIMEZONE
TZID:Europe/Berlin
X-LIC-LOCATION:Europe/Berlin
BEGIN:DAYLIGHT
DTSTART:20220327T030000
TZOFFSETFROM:+0100
TZOFFSETTO:+0200
TZNAME:CEST
END:DAYLIGHT
END:VTIMEZONE
END:VCALENDAR