BEGIN:VCALENDAR
VERSION:2.0
PRODID:-//wp-events-plugin.com//7.2.3.1//EN
TZID:Europe/Berlin
X-WR-TIMEZONE:Europe/Berlin
BEGIN:VEVENT
UID:4794@lilabi.net
DTSTART;TZID=Europe/Berlin:20230729T160000
DTEND;TZID=Europe/Berlin:20230729T173000
DTSTAMP:20230725T151549Z
URL:https://www.lilabi.net/events/auf-achse-fuer-frieden-und-abruestung-fr
 iedensfahrradtour-dfg-vk/
SUMMARY:Auf Achse für Frieden und Abrüstung Friedensfahrradtour dfg-VK
DESCRIPTION:Begrüßung der Friedensfahrerinnen und Fahrer mit Musik und An
 sprachen\, Infomaterial
CATEGORIES:Kundgebung
LOCATION:Kesselbrink Bielefeld vor dem Grünen Würfel\, Kesselbrink \,  Bi
 elefeld\, nrw\, 33604\, Deutschland
X-APPLE-STRUCTURED-LOCATION;VALUE=URI;X-ADDRESS=Kesselbrink \,  Bielefeld\,
  nrw\, 33604\, Deutschland;X-APPLE-RADIUS=100;X-TITLE=Kesselbrink Bielefel
 d vor dem Grünen Würfel:geo:0,0
END:VEVENT
BEGIN:VTIMEZONE
TZID:Europe/Berlin
X-LIC-LOCATION:Europe/Berlin
BEGIN:DAYLIGHT
DTSTART:20230326T030000
TZOFFSETFROM:+0100
TZOFFSETTO:+0200
TZNAME:CEST
END:DAYLIGHT
END:VTIMEZONE
END:VCALENDAR