BEGIN:VCALENDAR
VERSION:2.0
PRODID:-//wp-events-plugin.com//7.2.3.1//EN
TZID:Europe/Berlin
X-WR-TIMEZONE:Europe/Berlin
BEGIN:VEVENT
UID:4919@lilabi.net
DTSTART;TZID=Europe/Berlin:20240124T190000
DTEND;TZID=Europe/Berlin:20240124T210000
DTSTAMP:20240122T174544Z
URL:https://www.lilabi.net/events/atomwaffenfrei-trotz-krieg/
SUMMARY:„Atomwaffenfrei trotz Krieg?“
DESCRIPTION:Zum 3. Jahrestag der völkerrechtlichen Gültigkeit des UN-Atom
 waffenverbotsvertrags (AVV) informiert Dr. Angelika Claußen* (IPPNW) übe
 r die aktuelle Atomkriegsgefahr und stellt sich der Frage: Wie können wir
  einen eventuell möglichen Atomkrieg verhindern?.
ATTACH;FMTTYPE=image/jpeg:https://www.lilabi.net/wp-content/uploads/2024/0
 1/DFG-VK-logo-I-blau-test.jpg
CATEGORIES:Diskussion,Vortrag
LOCATION:Bürgerzentrum Haus unter den Linden Herford\, Unter den Linden 12
 \, Herford\, NRW\, 32052\, OWL\, Deutschland
X-APPLE-STRUCTURED-LOCATION;VALUE=URI;X-ADDRESS=Unter den Linden 12\, Herfo
 rd\, NRW\, 32052\, OWL\, Deutschland;X-APPLE-RADIUS=100;X-TITLE=Bürgerzen
 trum Haus unter den Linden Herford:geo:0,0
END:VEVENT
BEGIN:VTIMEZONE
TZID:Europe/Berlin
X-LIC-LOCATION:Europe/Berlin
BEGIN:STANDARD
DTSTART:20231029T020000
TZOFFSETFROM:+0200
TZOFFSETTO:+0100
TZNAME:CET
END:STANDARD
END:VTIMEZONE
END:VCALENDAR