BEGIN:VCALENDAR
VERSION:2.0
PRODID:-//wp-events-plugin.com//7.2.3.1//EN
TZID:Europe/Berlin
X-WR-TIMEZONE:Europe/Berlin
BEGIN:VEVENT
UID:4473@lilabi.net
DTSTART;TZID=Europe/Berlin:20221209T190000
DTEND;TZID=Europe/Berlin:20221209T210000
DTSTAMP:20221122T223805Z
URL:https://www.lilabi.net/events/arminia-im-nationalsozialismus-stadtrund
 gang/
SUMMARY:Arminia im Nationalsozialismus (Stadtrundgang)
DESCRIPTION:Der 1. Bielefelder Fußball-Club war kaum gegründet\, da gab e
 s einen jüdischen Präsidenten\, der dem Verein aus seiner ersten existen
 tiellen Krise half. Julius Hesse hat dieses in seiner Amtszeit 1909-1914 g
 eschafft. 20 Jahre später wurde der deutsche Sport von den Nazis gleichge
 schaltet\, Karl Demberg\, ein aufstrebender Anwalt und NSDAP-Mitglied\, wu
 rde zum „Vereinsführer“ ernannt. Jüdische Mitglieder wurden ausgesch
 lossen\, Julius Hesse und seine Frau sind später in Theresienstadt bzw. A
 uschwitz ermordet worden.\n\nBeim Rundgang „Spurensuche – Arminia Biel
 efeld und der Nationalsozialismus“ werden einige dieser Spuren noch einm
 al aufgespürt. Spuren\, die mal unmittelbar\, mal mittelbar mit dem Graue
 n jener Zeit zu tun gehabt haben. Während der etwa 2-3-stündigen Tour wi
 rd deutlich\, wie sehr der Alltag von nationalsozialistischem Denken und H
 andeln geprägt gewesen ist.\n\nEine Veranstaltung der Antinationalen Link
 en Bielefeld [ALIBI] im Rahmen der Veranstaltungsreihe "Boykott Katar".
ATTACH;FMTTYPE=image/jpeg:https://www.lilabi.net/wp-content/uploads/2022/1
 1/layoutfinal-4.jpg
CATEGORIES:Führung/Rundgang
LOCATION:Stadion\, Melanchthonstraße 29\, Bielefeld\, Deutschland
X-APPLE-STRUCTURED-LOCATION;VALUE=URI;X-ADDRESS=Melanchthonstraße 29\, Bie
 lefeld\, Deutschland;X-APPLE-RADIUS=100;X-TITLE=Stadion:geo:0,0
END:VEVENT
BEGIN:VTIMEZONE
TZID:Europe/Berlin
X-LIC-LOCATION:Europe/Berlin
BEGIN:STANDARD
DTSTART:20221030T020000
TZOFFSETFROM:+0200
TZOFFSETTO:+0100
TZNAME:CET
END:STANDARD
END:VTIMEZONE
END:VCALENDAR