BEGIN:VCALENDAR
VERSION:2.0
PRODID:-//wp-events-plugin.com//7.2.3.1//EN
TZID:Europe/Berlin
X-WR-TIMEZONE:Europe/Berlin
BEGIN:VEVENT
UID:4475@lilabi.net
DTSTART;TZID=Europe/Berlin:20221217T190000
DTEND;TZID=Europe/Berlin:20221217T220000
DTSTAMP:20221122T223926Z
URL:https://www.lilabi.net/events/antinationales-ping-pong/
SUMMARY:Antinationales Ping-Pong
DESCRIPTION:Du hast keine Lust auf die WM des Nationalismus?\n\nDann komm z
 um antinationalen Ping-Pong!\n\nGute Musik! Nette Leute! Leckere Getränke
 !\n\nEine Veranstaltung der Antinationalen Linken Bielefeld [ALIBI] im Rah
 men der Veranstaltungsreihe "Boykott Katar".
ATTACH;FMTTYPE=image/jpeg:https://www.lilabi.net/wp-content/uploads/2022/1
 1/layoutfinal-6.jpg
CATEGORIES:Kneipe,Musik,Sport
LOCATION:Nr. z. P.\, Große Kurfürstenstraße 81\, Bielefeld\, Deutschland
X-APPLE-STRUCTURED-LOCATION;VALUE=URI;X-ADDRESS=Große Kurfürstenstraße 8
 1\, Bielefeld\, Deutschland;X-APPLE-RADIUS=100;X-TITLE=Nr. z. P.:geo:0,0
END:VEVENT
BEGIN:VTIMEZONE
TZID:Europe/Berlin
X-LIC-LOCATION:Europe/Berlin
BEGIN:STANDARD
DTSTART:20221030T020000
TZOFFSETFROM:+0200
TZOFFSETTO:+0100
TZNAME:CET
END:STANDARD
END:VTIMEZONE
END:VCALENDAR