BEGIN:VCALENDAR
VERSION:2.0
PRODID:-//wp-events-plugin.com//7.2.3.1//EN
TZID:Europe/Berlin
X-WR-TIMEZONE:Europe/Berlin
BEGIN:VEVENT
UID:4811@lilabi.net
DTSTART;TZID=Europe/Berlin:20230901T170000
DTEND;TZID=Europe/Berlin:20230901T190000
DTSTAMP:20230826T114449Z
URL:https://www.lilabi.net/events/antikriegstag-kundgebung/
SUMMARY:Antikriegstag - Kundgebung
DESCRIPTION:01.09.23 Antikriegstag Dieser Tag wird jährlich anlässlich de
 s Überfalls Nazi-Deutschlands auf Polen als offizieller Gedenktag begange
 n. Doch die Themen Krieg und Aufrüstung könnten nicht aktueller sein. St
 aaten\, insbesondere die des globalen Nordens reagieren auf die zunehmende
 n Krisen immer mehr mit direkter\, brutaler\, kriegerischer Gewalt. Nicht 
 nur die Repression nach innen nimmt zu. Auch zwischenstaatliche Konflikte\
 , oder Blockkonfrontationen werden mehr und mehr mit militärischer Rhetor
 ik und Aufrüstung beantwortet. An den Außengrenzen der EU und der USA wi
 rd ein regelrechter Krieg gegen Geflüchtete geführt. Die Bundeswehr ford
 ert junge Menschen unverhohlener denn je auf\, ihr Leben für die „Deuts
 chen Werte“ zu geben\, die Forderung dass „wieder Stärke erlangt werd
 en soll“ ist salonfähig gemacht. Währenddessen verlassen sich andere S
 taaten auf ausgedehnte Maßnahmen zur Zwangsrekrutierung. Die Deutsche Rü
 stungsindustrie\, die von allem oben genannten profitiert\, sucht die Legi
 timation und politische Bühne.\nWir finden: Angesichts all dessen reicht 
 ein Gedenken nicht aus.\n\nDeswegen veranstalten wir an dem Tag um 17:00 e
 ine Kundgebung am Jahnplatz. Hier wollen wir einen vielfältigen Protest g
 egen alle Kriege und jede Aufrüstung sichtbar machen. Bringt für die Kun
 dgebung gerne Pappschilder mit einer Parole eurer Wahl mit. Das gemeinsame
  Motto hierfür soll sein: 01.09 Antikriegstag!\n\n&nbsp\;
CATEGORIES:Kundgebung
LOCATION:Jahnplatz\, Jahnplatz\, Bielefeld\, 33602\, Deutschland
X-APPLE-STRUCTURED-LOCATION;VALUE=URI;X-ADDRESS=Jahnplatz\, Bielefeld\, 336
 02\, Deutschland;X-APPLE-RADIUS=100;X-TITLE=Jahnplatz:geo:0,0
END:VEVENT
BEGIN:VTIMEZONE
TZID:Europe/Berlin
X-LIC-LOCATION:Europe/Berlin
BEGIN:DAYLIGHT
DTSTART:20230326T030000
TZOFFSETFROM:+0100
TZOFFSETTO:+0200
TZNAME:CEST
END:DAYLIGHT
END:VTIMEZONE
END:VCALENDAR