BEGIN:VCALENDAR
VERSION:2.0
PRODID:-//wp-events-plugin.com//7.2.3.1//EN
TZID:Europe/Berlin
X-WR-TIMEZONE:Europe/Berlin
BEGIN:VEVENT
UID:4375@lilabi.net
DTSTART;TZID=Europe/Berlin:20220806T160000
DTEND;TZID=Europe/Berlin:20220806T180000
DTSTAMP:20220803T124853Z
URL:https://www.lilabi.net/events/antikolonialismus-und-klimakrise-vortrag
 -von-lakshmi-thevasagayam/
SUMMARY:Antikolonialismus und Klimakrise - Vortrag von Lakshmi Thevasagayam
DESCRIPTION:Das Verhindern weiterer fossiler Infrastruktur und der Kampf f
 ür eine klimagerechte Welt gehen Hand in Hand mit dem Kampf gegen Rassism
 us und Kolonialismus. Denn der Ursprung der Klimakrise liegt im Kolonialis
 mus und im Kapitalismus.\n\nEine klimagerechte Welt kann nur auf einem ant
 irassistischen und antikolonialen Fundament gebaut werden\, und dieses Fun
 dament entsteht nicht aus dem Nichts. Es ist notwendig\, Fragen nach unter
 schiedlich verteilter Verantwortung und Handlungsmöglichkeiten zu stellen
 \, die Zusammenhänge von Rassismus und der Klima-ungerechtigkeit aufzuzei
 gen sowie eine antikoloniale Perspektive für eine solidarische Klimagerec
 htigkeitsbewegung in Deutschland und im Globalen Norden einzunehmen.\n\nDe
 shalb freuen wir uns sehr\, dass Lakshmi Thevasagayam für einen Vortrag z
 u „Antikolonalismus und Klimakrise“ nach Bielefeld kommt. Sie arbeitet
  schon seit vielen Jahren in verschiedenen Gruppen zum Thema Klimagerechti
 gkeit\, Antirassismus und Dekolonialisierung - in letzter Zeit zum Beispie
 l bei Lützerath lebt. Entsprechend hat sie sowohl auf theoretischer als a
 uch auf praktischer Ebene\, u.a. in Mexiko\, viel Erfahrung.\n\nKommt vorb
 ei!\nDie Teilnahme ist kostenfrei.
ATTACH;FMTTYPE=image/jpeg:https://www.lilabi.net/wp-content/uploads/2022/0
 8/Vortrag.png
CATEGORIES:Vortrag
LOCATION:AJZ Bielefeld\, Heeper Str. 132\, 33607 Bielefeld\, Deutschland
X-APPLE-STRUCTURED-LOCATION;VALUE=URI;X-ADDRESS=Heeper Str. 132\, 33607 Bie
 lefeld\, Deutschland;X-APPLE-RADIUS=100;X-TITLE=AJZ Bielefeld:geo:0,0
END:VEVENT
BEGIN:VTIMEZONE
TZID:Europe/Berlin
X-LIC-LOCATION:Europe/Berlin
BEGIN:DAYLIGHT
DTSTART:20220327T030000
TZOFFSETFROM:+0100
TZOFFSETTO:+0200
TZNAME:CEST
END:DAYLIGHT
END:VTIMEZONE
END:VCALENDAR