BEGIN:VCALENDAR
VERSION:2.0
PRODID:-//wp-events-plugin.com//7.2.3.1//EN
TZID:Europe/Berlin
X-WR-TIMEZONE:Europe/Berlin
BEGIN:VEVENT
UID:6516@lilabi.net
DTSTART;TZID=Europe/Berlin:20251217T190000
DTEND;TZID=Europe/Berlin:20251217T220000
DTSTAMP:20251209T110319Z
URL:https://www.lilabi.net/events/antifaschistisches-infotreffen-bielefeld
 -6/
SUMMARY:Antifaschistisches Infotreffen Bielefeld
DESCRIPTION:Antifaschistisches Infotreffen Bielefeld\n\nDu hast Lust auf an
 tifaschistische Informationen? Du möchtest mehr wissen über lokale Nazi-
 Strukturen und Aktionen der rechten Szene? Du möchtest Dich mit anderen a
 ntifaschistisch Interessierten austauschen? Dann komm zum AIT – Antifasc
 histisches Infotreffen Bielefeld.\n\nDas nächste AIT am 17.12. (19 Uhr) f
 indet unter folgendem Titel statt:\n\n„Rechte Parolen in Familie + Umfel
 d / Austausch – Erfahrung - Argumentation.\n\nZum Jahresende häufen sic
 h Weihnachtsfeiern im Betrieb\, in der Schule und an der Uni\, viele Mensc
 hen verbringen in den Winterferien Zeit mit Familie und Freund*innen. Aber
  was tun\, wenn uns bei diesen Gelegenheiten rechte Positionen und Parolen
  begegnen? Was ist ein guter Umgang mit rechten Parolen in der Familie\, i
 n Schule oder Uni oder am Arbeitsplatz? Darüber wollen wir mit euch beim 
 AIT am 17.12.25 mit Punsch und Keksen sprechen. Kommt vorbei!\n\nDas Treff
 en findet im AJZ Bielefeld\, Heeper Straße 132 (33607 Bielefeld) statt. D
 ie Räume sind barrierearm\, auch barrierearme Toiletten sind vorhanden. D
 as Treffen ist offen und eingeladen sind alle\, die sich antifaschistisch 
 informieren und austauschen möchten.\n\nNicht eingeladen und erwünscht s
 ind Personen\, die der rechten Szene angehören oder Mitarbeiter*innen der
  Sicherheitsbehörden sind. Bild-\, Ton und Videoaufnahmen sind bei den Tr
 effen nicht gestattet.\n\nDer nächste Termin für das AIT ist am: 21.01.2
 6
ATTACH;FMTTYPE=image/jpeg:https://www.lilabi.net/wp-content/uploads/2025/1
 2/AIT_171225_lilabi.jpg
CATEGORIES:Austausch/Vernetzung
LOCATION:AJZ Bielefeld\, Heeper Str. 132\, 33607 Bielefeld\, Deutschland
X-APPLE-STRUCTURED-LOCATION;VALUE=URI;X-ADDRESS=Heeper Str. 132\, 33607 Bie
 lefeld\, Deutschland;X-APPLE-RADIUS=100;X-TITLE=AJZ Bielefeld:geo:0,0
END:VEVENT
BEGIN:VTIMEZONE
TZID:Europe/Berlin
X-LIC-LOCATION:Europe/Berlin
BEGIN:STANDARD
DTSTART:20251026T020000
TZOFFSETFROM:+0200
TZOFFSETTO:+0100
TZNAME:CET
END:STANDARD
END:VTIMEZONE
END:VCALENDAR