BEGIN:VCALENDAR
VERSION:2.0
PRODID:-//wp-events-plugin.com//7.2.3.1//EN
TZID:Europe/Berlin
X-WR-TIMEZONE:Europe/Berlin
BEGIN:VEVENT
UID:6406@lilabi.net
DTSTART;TZID=Europe/Berlin:20251029T190000
DTEND;TZID=Europe/Berlin:20251029T220000
DTSTAMP:20251002T002213Z
URL:https://www.lilabi.net/events/antifaschistisches-infotreffen-bielefeld
 -4/
SUMMARY:Antifaschistisches Infotreffen Bielefeld
DESCRIPTION:Du hast Lust auf antifaschistische Informationen?\n\nDu möchte
 st mehr wissen über lokale Nazi-Strukturen und Aktionen der rechten Szene
 ?\n\nDu möchtest Dich mit anderen antifaschistisch Interessierten austaus
 chen?\n\nDann komm zum AIT – Antifaschistisches Infotreffen Bielefeld\n\
 nDas nächste AIT am 29.10. (19 Uhr) findet unter dem Titel „Rockt die e
 xtreme Rechte noch in OWL“ statt.\n\nIn den 1990er und frühen 2000er Ja
 hren exisitierte eine sehr aktive RechtsRock-Szene ist Ostwestfalen. Bands
  wie Werwolf aus Gütersloh\, Sleipnir aus Verl waren von bundesweiter Bed
 eutung\, Label wie Wewelsburg Records oder Christhunt Production produzier
 ten die Tonträger und immer wieder fanden Konzerte und Liederabende statt
 . Mit Julian Fritsch aka Makss Damage stammt der wohl erste ernstzunehmend
 e Rapper der extremen Rechten aus OWL? Doch wie sieht es heute aus? Existi
 ert eine Szene mit entsprechenden Bands\, Liedermacher*innen und Veranstal
 tungen? Der kurze Input stellt dar\, wie diese aussieht und welche Bedeutu
 ng sie und der RechtsRock in OWL aktuell hat.\n\nDas Treffen findet im AJZ
  Bielefeld\, Heeper Straße 132 (33607 Bielefeld) statt.\n\nDie Räume sin
 d barrierearm\, auch barrierearme Toiletten sind vorhanden.\n\nDas Treffen
  ist offen und eingeladen sind alle\, die sich antifaschistisch informiere
 n und austauschen möchten.\n\nNicht eingeladen und erwünscht sind Person
 en\, die der rechten Szene angehören oder Mitarbeiter*innen der Sicherhei
 tsbehörden sind.\n\nBild-\, Ton und Videoaufnahmen sind bei den Treffen n
 icht gestattet.\n\nDie nächsten Termine für das AIT sind am: 26.11. + 17
 .12.25
ATTACH;FMTTYPE=image/jpeg:https://www.lilabi.net/wp-content/uploads/2025/0
 9/AIT_291025_lilabi.jpg
CATEGORIES:Austausch/Vernetzung,Diskussion,Vortrag
LOCATION:AJZ Bielefeld\, Heeper Str. 132\, 33607 Bielefeld\, Deutschland
X-APPLE-STRUCTURED-LOCATION;VALUE=URI;X-ADDRESS=Heeper Str. 132\, 33607 Bie
 lefeld\, Deutschland;X-APPLE-RADIUS=100;X-TITLE=AJZ Bielefeld:geo:0,0
END:VEVENT
BEGIN:VTIMEZONE
TZID:Europe/Berlin
X-LIC-LOCATION:Europe/Berlin
BEGIN:STANDARD
DTSTART:20251026T020000
TZOFFSETFROM:+0200
TZOFFSETTO:+0100
TZNAME:CET
END:STANDARD
END:VTIMEZONE
END:VCALENDAR