BEGIN:VCALENDAR
VERSION:2.0
PRODID:-//wp-events-plugin.com//7.2.3.1//EN
TZID:Europe/Berlin
X-WR-TIMEZONE:Europe/Berlin
BEGIN:VEVENT
UID:4486@lilabi.net
DTSTART;TZID=Europe/Berlin:20221212T190000
DTEND;TZID=Europe/Berlin:20221212T210000
DTSTAMP:20221208T125228Z
URL:https://www.lilabi.net/events/antifaschistischer-filmabend/
SUMMARY:Antifaschistischer Filmabend
DESCRIPTION:Alle Jahre wieder läuft an vielen deutschen Universitäten der
  bekannte Mitmachfilm Die Feuerzangenbowle. Er wird mit ordentlich Glühwe
 in als heiterer Kultfilm perfekt für die Vorweihnachtszeit zelebriert. Wi
 r finden aber\, dass eine historische Einordnung nötig ist. Der Film wurd
 e 1944 veröffentlicht\, also in der Endphase des zweiten Weltkriegs als s
 ich die deutsche Niederlage schon deutlich abzeichnete. In den Stunden vor
  der Premiere in Berlin fielen fast 4000 Tonnen Bomben auf die Stadt. Dem 
 Film selbst ist von dieser düsteren Stimmung nichts anzumerken. Hitler zo
 g scheinbar harmlose Komödien reinen Propagandafilmen vor. Als der Film w
 egen der Verunglimpfung von Autoritäten verboten werden sollte\, traf sic
 h Heinz Rühmann\, der Hauptdarsteller und Produzent des Films\, sogar per
 sönlich mit Hitler. Dieser fragte bloß\, ob der Film denn witzig sei\, u
 nd als sein selbstgewählter Nachfolger Hermann Göring dies bejahte\, lie
 ß Hitler den Film zeigen. Der Film ist also nicht trotz\, sondern gerade 
 wegen seiner vermeintlichen Harmlosigkeit kritisch zu betrachten\, insbeso
 ndere weil die Nazi-Ideologie in Form des jungen Lehrers Brett ihren perso
 nifizierten Vertreter findet. Dieser spricht von der „neuen Zeit“ – 
 wie die NS-Zeit in der Nazi-Propaganda genannt wurde – und erklärt man 
 müsse junge Menschen wie Bäume anbinden\, damit sie „schön gerade wac
 hsen\, nicht nach allen Seiten ausschlagen“.\n\nDie Rezeptionsgeschichte
  des Films zieht sich dabei bis heute auf diese Weise fort: Die Rechte am 
 Film liegen bei Cornelia Meyer zur Heide\, die bis vor kurzem im AfD-Kreis
 vorstand Münster saß. Sie stellt den Film gern für unpolitische Spaßve
 ranstaltungen an Universitäten zur Verfügung\, während sie eine Vorfüh
 rung im Kontext einer Ausstellung des Deutschen Historischen Museums ableh
 nte.\n\nAls Alternative zur Feuerzangenbowle möchten wir euch einladen ei
 nen Film zu gucken\, der nicht in und für Nazi-Deutschland produziert wur
 de. Schmeißt euch in die Bademäntel\, setzt die Sonnenbrillen auf und ge
 nießt die Show!\n\nKult statt Führerkult\, White Russian statt White Sup
 remacy!\n\nWir freuen uns auf Euch!\n\nEure AntiRa-AG
ATTACH;FMTTYPE=image/jpeg:https://www.lilabi.net/wp-content/uploads/2022/1
 2/Filmplakat_kleiner.jpg
CATEGORIES:Film
LOCATION:Uni bielefeld\, H2\, Universitätsstr. 25\, Bielefeld\, NRW\, 3361
 5\, Deutschland
X-APPLE-STRUCTURED-LOCATION;VALUE=URI;X-ADDRESS=Universitätsstr. 25\, Biel
 efeld\, NRW\, 33615\, Deutschland;X-APPLE-RADIUS=100;X-TITLE=Uni bielefeld
 \, H2:geo:0,0
END:VEVENT
BEGIN:VTIMEZONE
TZID:Europe/Berlin
X-LIC-LOCATION:Europe/Berlin
BEGIN:STANDARD
DTSTART:20221030T020000
TZOFFSETFROM:+0200
TZOFFSETTO:+0100
TZNAME:CET
END:STANDARD
END:VTIMEZONE
END:VCALENDAR