BEGIN:VCALENDAR
VERSION:2.0
PRODID:-//wp-events-plugin.com//7.2.3.1//EN
TZID:Europe/Berlin
X-WR-TIMEZONE:Europe/Berlin
BEGIN:VEVENT
UID:3578@lilabi.net
DTSTART;TZID=Europe/Berlin:20211109T190000
DTEND;TZID=Europe/Berlin:20211109T210000
DTSTAMP:20211028T113334Z
URL:https://www.lilabi.net/events/antifaschistische-gedenkdemo-am-jahresta
 g-der-novemberpogrome-2/
SUMMARY:Antifaschistische Gedenkdemo am Jahrestag der Novemberpogrome
DESCRIPTION:In der Nacht vom neunten auf den zehnten November 1938 wurde di
 e Synagoge in der Turnerstraße in einer organisierten Aktion in Brand ges
 etzt. Wenige Stunden später hatten die Flammen bereits die gesamte Synago
 ge ergriffen.\n\n„Das Datum\, der 9./10. November 1938\, bedeutete nicht
  nur\, dass alle Synagogen in Deutschland abgebrannt wurden\, sondern dass
  die Nazis viele jüdische Männer verhafteten\, dass man jüdische Gesch
 äfte plünderte und die Scheiben zerschlug.”\, erinnert sich die 1924 i
 n Bielefeld geborene Jüdin Helga Ravn.\nIn Bielefeld beteiligten sich an 
 den\, von den Faschist*innen verharmlosend als „Reichskristallnacht” b
 ezeichneten\, Pogromen verschiedene Bielefelder Bürger*innen – von SS-G
 ruppen bis hin zu Kindern\, die der Hitler-Jugend angehörten.\nDie Novemb
 erpogrome markierten den Übergang von der Diskriminierung und Entrechtung
  zur systematischen Verfolgung und Vernichtung jüdischer Menschen. „Von
  da an wurde das Leben für uns Juden mehr und mehr unerträglich“\, sag
 te Helga Ravn später.\n\nIn den letzten Jahren erleben wir in Deutschland
  eine öffentliche Diskursverschiebung. So hat die Zeit der Corona-Pandemi
 e erneut gezeigt\, dass Geschichtsrevisionismus in Deutschland allgegenwä
 rtig ist. Dass sogenannte Querdenker*innen durch die Straßen laufen und d
 ie Maskenpflicht und andere „Corona-Maßnahmen“ mit der industriellen 
 Vernichtung jüdischen Lebens gleichsetzen\, macht uns fassungslos und wü
 tend. Die Verbreitungen von antisemitischen Verschwörungsmythen im Zusamm
 enhang mit der Pandemie zeigen\, wie die Grenzen des Sagbaren verschoben w
 urden und tragen ihren Teil zur Entstehung einer gefährlichen Stimmung in
  großen Teilen unserer Gesellschaft bei.\n\nAn dieser Stimmung ist auch d
 ie AfD maßgeblich beteiligt\, die sich immer mehr in den Parlamenten etab
 liert. So bekam die völkisch-nationalistische Partei auch bei den vergang
 enen Bundestagswahlen in einigen Bundesländern erschreckend viele Stimmen
  und wurde in Thüringen und Sachsen sogar stärkste Kraft. Die Etablierun
 g dieser Partei dient als parlamentarischer Legitimationsgrund für antise
 mitische und rassistische Äußerungen und Haltungen und verschärft so di
 e Festigung von Feindbildern.\n\nAm diesjährigen Tag des Gedenkens an die
  Opfer des Nationalsozialismus\, dem 27. Januar richtete sich die Shoa-Üb
 erlebende Esther Bejarano mit einem Appell an alle jungen Menschen und sag
 te: „Ihr seid nicht schuldig\, für das\, was damals geschehen ist (…)
 \, aber ihr macht euch schuldig\, wenn ihr nichts von dieser Geschichte wi
 ssen wollt.“\nUm sich gegen einen wieder erstarkenden Antisemitismus und
  gegen das Vergessen der Shoa einzusetzen\, haben Menschen wie Esther Beja
 rano bis ins hohe Alter über die grausame Zeit des deutschen Faschismus e
 rzählt. Es gibt nicht mehr viele Zeitzeug*innen\, die über ihr Schicksal
  berichten können. So ist auch Esther Bejarano\, eine der letzten Überle
 benden des Vernichtungslagers Auschwitz\, am 10. Juli 2021 verstorben.\n\n
 Es liegt an uns allen die Opfer des deutschen Faschismus nicht zu vergesse
 n\, ihre Geschichten zu erzählen\, jeder Relativierung der nationalsozial
 istischen Vernichtungsideologie entgegenzutreten und die Nazis von heute a
 ktiv zu bekämpfen.\n\nKommt deshalb zur antifaschistischen Gedenkdemonstr
 ation am Jahrestag der Novemberpogrome\, denn Gedenken heißt kämpfen!
ATTACH;FMTTYPE=image/jpeg:https://www.lilabi.net/wp-content/uploads/2021/1
 0/Gedenk-lila.png
CATEGORIES:Demo
LOCATION:Hauptbahnhof\, Bahnhofsvorplatz\, Bielefeld\, Deutschland
X-APPLE-STRUCTURED-LOCATION;VALUE=URI;X-ADDRESS=Bahnhofsvorplatz\, Bielefel
 d\, Deutschland;X-APPLE-RADIUS=100;X-TITLE=Hauptbahnhof:geo:0,0
END:VEVENT
BEGIN:VTIMEZONE
TZID:Europe/Berlin
X-LIC-LOCATION:Europe/Berlin
BEGIN:STANDARD
DTSTART:20211031T020000
TZOFFSETFROM:+0200
TZOFFSETTO:+0100
TZNAME:CET
END:STANDARD
END:VTIMEZONE
END:VCALENDAR