BEGIN:VCALENDAR
VERSION:2.0
PRODID:-//wp-events-plugin.com//7.2.3.1//EN
TZID:Europe/Berlin
X-WR-TIMEZONE:Europe/Berlin
BEGIN:VEVENT
UID:4654@lilabi.net
DTSTART;TZID=Europe/Berlin:20230218T160000
DTEND;TZID=Europe/Berlin:20230218T180000
DTSTAMP:20230214T165952Z
URL:https://www.lilabi.net/events/antifaschismus-in-brasilien/
SUMMARY:Antifaschismus in Brasilien
DESCRIPTION:»Brasilien über alles\, Gott über allen«\, lautete die Wahl
 kampfparole von Jair Bolsonaro\, mit der er im Jahre 2019 zum Präsidenten
  des größten Land Lateinamerikas gewählt wurde. Sein fulminanter Aufsti
 eg hat Brasilien verändert – auch über seine Präsidentschaft hinaus. 
 Nach der Wahlniederlage des ultrarechten Politikers gegen seinen linken Wi
 dersacher Lula Ende 2022 stürmten Anhänger:innen Bolsonaros das Regierun
 gsviertel in der Hauptstadt Brasilia und forderten unverhohlen eine Absetz
 ung der neuen Regierung durch eine Militärintervention.\n\nIn einem Gespr
 äch mit dem brasilianischen Aktivisten Edvaldo Gameth wollen wir einen Bl
 ick auf ein Land im Krisenmodus werfen. Wir wollen u.a. den Fragen nachgeh
 en: Wie lebte es sich in Brasilien unter Bolsonaro? Wie hat der Aufstieg d
 er Rechten das Land verändert? Und (wie) haben sich Menschen gegen die au
 toritäre Wende zur Wehr gesetzt?\n\nDie Veranstaltung wird aus dem Portug
 iesischen ins Deutsche übersetzt. Neben kühlen Getränken gibt es Kaffee
  und Kuchen sowie ausreichend Raum für Fragen und Diskussion.\n\nEine Ver
 anstaltung der ALIBI und der Antifa AG Uni Bielefeld
ATTACH;FMTTYPE=image/jpeg:https://www.lilabi.net/wp-content/uploads/2023/0
 2/161_brasil_g.jpg
CATEGORIES:Vortrag
LOCATION:Potemkin\, Heeper Str. 28\, Bielefeld\, Deutschland
X-APPLE-STRUCTURED-LOCATION;VALUE=URI;X-ADDRESS=Heeper Str. 28\, Bielefeld\
 , Deutschland;X-APPLE-RADIUS=100;X-TITLE=Potemkin:geo:0,0
END:VEVENT
BEGIN:VTIMEZONE
TZID:Europe/Berlin
X-LIC-LOCATION:Europe/Berlin
BEGIN:STANDARD
DTSTART:20221030T020000
TZOFFSETFROM:+0200
TZOFFSETTO:+0100
TZNAME:CET
END:STANDARD
END:VTIMEZONE
END:VCALENDAR