BEGIN:VCALENDAR
VERSION:2.0
PRODID:-//wp-events-plugin.com//7.2.3.1//EN
TZID:Europe/Berlin
X-WR-TIMEZONE:Europe/Berlin
BEGIN:VEVENT
UID:4404@lilabi.net
DTSTART;TZID=Europe/Berlin:20221007T190000
DTEND;TZID=Europe/Berlin:20221007T220000
DTSTAMP:20221007T093932Z
URL:https://www.lilabi.net/events/antifaschismus-bleibt-notwendig/
SUMMARY:!! FÄLLT AUS !! Antifaschismus bleibt notwendig?
DESCRIPTION:Veranstaltung fällt aus!\n\nInfo-Veranstaltung zum „Wasen-Pr
 ozess“ gegen Antifaschist:innen in Baden-Württemberg\n\n&nbsp\;\n\nNach
  sechs Monaten Prozess gegen die beiden Antifas Jo und Dy ging das sog. 
 „Wasen-Verfahren“ Mitte Oktober 2021 zu Ende. Beide wurden vor dem Lan
 dgericht zu mehrjährigen Haftstrafen verurteilt.\n\nAls Solidaritätskamp
 agne begleiteten wir den gesamten Verfahrenskomplex bereits seit den erste
 n Hausdurchsuchungen 2020 und versuchten Solidarität zu organisieren. Zum
  ersten Prozess gegen Jo und Dy\, der im April 2021 startete\, gestalteten
  wir eine solidarische Begleitung. Mit dem Urteil ist das Verfahren und ei
 ne erste intensive Phase der Solidaritätskampagne zu Ende.\n\nNichts dest
 o trotz\, sitzt Dy weiterhin in U-Haft\, stehen weitere Prozesse gegen and
 ere Beschuldigte an und auch die Revision im Prozess gegen Jo und Dy erwar
 tet uns. Mit der Veranstaltung wollen wir zu diesem Zeitpunkt folgende Fra
 gen aufstellen.\n\nIn welchem Verhältnis steht der Prozess und die krimin
 alisierte antifaschistische Intervention zu den aufkommenden Querdenken-De
 monstrationen im Frühjahr 2020? Inwieweit stellt dieser Repressionsangrif
 f eine neue Qualität dar? Was für Schlüsse können wir aus dem Prozessv
 erlauf ziehen? Wie sah die Prozessbegleitung aus? Was sind für uns grunds
 ätzlichere Herangehensweisen gegenüber staatlicher Repression und der Or
 ganisierung von Solidarität?\n\nGemeinsam wollen wir die bisherige Arbeit
  der Solikampagne und unsere Einschätzungen zu den Fragen diskutieren.
CATEGORIES:Diskussion,Infoveranstaltung
LOCATION:AJZ Bielefeld\, Heeper Str. 132\, 33607 Bielefeld\, Deutschland
X-APPLE-STRUCTURED-LOCATION;VALUE=URI;X-ADDRESS=Heeper Str. 132\, 33607 Bie
 lefeld\, Deutschland;X-APPLE-RADIUS=100;X-TITLE=AJZ Bielefeld:geo:0,0
END:VEVENT
BEGIN:VTIMEZONE
TZID:Europe/Berlin
X-LIC-LOCATION:Europe/Berlin
BEGIN:DAYLIGHT
DTSTART:20220327T030000
TZOFFSETFROM:+0100
TZOFFSETTO:+0200
TZNAME:CEST
END:DAYLIGHT
END:VTIMEZONE
END:VCALENDAR