BEGIN:VCALENDAR
VERSION:2.0
PRODID:-//wp-events-plugin.com//7.2.3.1//EN
TZID:Europe/Berlin
X-WR-TIMEZONE:Europe/Berlin
BEGIN:VEVENT
UID:4808@lilabi.net
DTSTART;TZID=Europe/Berlin;VALUE=DATE:20230909
DTEND;TZID=Europe/Berlin;VALUE=DATE:20230911
DTSTAMP:20230826T114449Z
URL:https://www.lilabi.net/events/antifa-weekend-owl-3/
SUMMARY:Antifa Weekend OWL
DESCRIPTION:\n\nDas diesjährige Antifa Weekend OWL findet vom 09.09.- 10.0
 9.2023 statt.\n\nIn diesem Jahr möchten wir\, anders als die Jahre zuvor\
 , einen Themenschwerpunkt setzten. Als Themenschwerpunkt haben wir uns fü
 r das diesjährige Weekend für das Thema „Antifaschistisches Gedenken
 “ entschieden. Wir möchten uns bspw. mit den Fragen auseinandersetzen\,
  wie antifaschistisches Gedenken im Wandel der Zeit in Bielefeld\, OWL und
  darüber hinaus umgesetzt wird\, wie Formen für ein Gedenken aussehen k
 önnten und ob man sich an bestehenden Gedenkveranstaltungen beteiligen ka
 nn oder eigene organisieren sollte.\n\nAm Samstag finden Workshops und ein
 e Filmvorführung\, nebst Gespräch mit der Regisseurin\, statt. Sonntag w
 erden wir eine Gedenkwanderung anbieten.\n\nWeitere Infos findet ihr unter
  https://antifaweekendowl.wordpress.com und auf unserer Instagram- Seite.\
 n\n
LOCATION:AJZ Bielefeld\, Heeper Str. 132\, 33607 Bielefeld\, Deutschland
X-APPLE-STRUCTURED-LOCATION;VALUE=URI;X-ADDRESS=Heeper Str. 132\, 33607 Bie
 lefeld\, Deutschland;X-APPLE-RADIUS=100;X-TITLE=AJZ Bielefeld:geo:0,0
END:VEVENT
BEGIN:VTIMEZONE
TZID:Europe/Berlin
X-LIC-LOCATION:Europe/Berlin
BEGIN:DAYLIGHT
DTSTART:20230326T030000
TZOFFSETFROM:+0100
TZOFFSETTO:+0200
TZNAME:CEST
END:DAYLIGHT
END:VTIMEZONE
END:VCALENDAR