BEGIN:VCALENDAR
VERSION:2.0
PRODID:-//wp-events-plugin.com//7.2.3.1//EN
TZID:Europe/Berlin
X-WR-TIMEZONE:Europe/Berlin
BEGIN:VEVENT
UID:4362@lilabi.net
DTSTART;TZID=Europe/Berlin;VALUE=DATE:20220916
DTEND;TZID=Europe/Berlin;VALUE=DATE:20220919
DTSTAMP:20220713T175051Z
URL:https://www.lilabi.net/events/antifa-weekend-owl-2/
SUMMARY:Antifa Weekend OWL
DESCRIPTION:Nach 2 Jahren Pause findet das nächste Antifa Weekend vom 16.0
 9.-18.09.2022 im AJZ Bielefeld statt.\nNach und nach werden wir das Progra
 mm auf unserer Homepage veröffentlichen.\nhttps://antifaweekendowl.wordpr
 ess.com/\n
LOCATION:AJZ Bielefeld\, Heeper Str. 132\, 33607 Bielefeld\, Deutschland
X-APPLE-STRUCTURED-LOCATION;VALUE=URI;X-ADDRESS=Heeper Str. 132\, 33607 Bie
 lefeld\, Deutschland;X-APPLE-RADIUS=100;X-TITLE=AJZ Bielefeld:geo:0,0
END:VEVENT
BEGIN:VTIMEZONE
TZID:Europe/Berlin
X-LIC-LOCATION:Europe/Berlin
BEGIN:DAYLIGHT
DTSTART:20220327T030000
TZOFFSETFROM:+0100
TZOFFSETTO:+0200
TZNAME:CEST
END:DAYLIGHT
END:VTIMEZONE
END:VCALENDAR