BEGIN:VCALENDAR
VERSION:2.0
PRODID:-//wp-events-plugin.com//7.2.3.1//EN
TZID:Europe/Berlin
X-WR-TIMEZONE:Europe/Berlin
BEGIN:VEVENT
UID:4697@lilabi.net
DTSTART;TZID=Europe/Berlin:20230318T111500
DTEND;TZID=Europe/Berlin:20230318T111500
DTSTAMP:20230315T153957Z
URL:https://www.lilabi.net/events/antifa-bleibt-anreise-zur-antirep-demo-n
 ach-braunschweig/
SUMMARY:Antifa bleibt! Anreise zur Antirep Demo nach Braunschweig
DESCRIPTION:Braunschweiger Antifaschist:innen haben mit einer riesigen Repr
 essionswelle zu kämpfen. Es gab über 20 Hausdurchsuchungen von Privatwoh
 nungen und dem linken Zentrum Nexus. Um in den Fokus der Behörden zu gera
 ten reicht oft schon ein Fingerzeig stadtbekannter Nazis.\nDie lokalen Str
 ukturen haben auf die Repression mit Solidarität reagiert und die Kampagn
 e "Antifa bleibt" gegründet. Am 18.03.\, dem Tag der politischen Gefangen
 en\, soll es eine große Solidaritätsdemo in Braunschweig geben\, die wir
  aus Bielefeld unterstützen möchten.\n\nTreffpunkt zur Anreise:\n\n18.03
 .2023 11:15 Hbf
ATTACH;FMTTYPE=image/jpeg:https://www.lilabi.net/wp-content/uploads/2023/0
 3/Screenshot_20230315-1137574.png
CATEGORIES:Demo,Zugtreffpunkt
LOCATION:Hauptbahnhof\, Bahnhofsvorplatz\, Bielefeld\, Deutschland
X-APPLE-STRUCTURED-LOCATION;VALUE=URI;X-ADDRESS=Bahnhofsvorplatz\, Bielefel
 d\, Deutschland;X-APPLE-RADIUS=100;X-TITLE=Hauptbahnhof:geo:0,0
END:VEVENT
BEGIN:VTIMEZONE
TZID:Europe/Berlin
X-LIC-LOCATION:Europe/Berlin
BEGIN:STANDARD
DTSTART:20221030T020000
TZOFFSETFROM:+0200
TZOFFSETTO:+0100
TZNAME:CET
END:STANDARD
END:VTIMEZONE
END:VCALENDAR