BEGIN:VCALENDAR
VERSION:2.0
PRODID:-//wp-events-plugin.com//7.2.3.1//EN
TZID:Europe/Berlin
X-WR-TIMEZONE:Europe/Berlin
BEGIN:VEVENT
UID:3430@lilabi.net
DTSTART;TZID=Europe/Berlin:20200903T190000
DTEND;TZID=Europe/Berlin:20200903T210000
DTSTAMP:20200819T071015Z
URL:https://www.lilabi.net/events/angst-und-politik/
SUMMARY:"Angst und Politik"
DESCRIPTION:Diskussion über den Text von Franz Neumann.\n\nTextdiskussion 
 | 19:00 Uhr | Nr.z.P\nGründend auf seiner umfassenden Analyse von Struktu
 r und Praxis des Nationalsozialismus hält der Jurist\, Politikwissenschaf
 tlicher und kritische Theoretiker Franz Leopold Neumann 1954 einen Vortrag
  über den Zusammenhang von Angst und Politik. Hierin legt er in bahnbrech
 ender Weise ein sozial-psychologisches Konzept zur Erklärung faschistisch
 er Massenbewegungen vor\, das auch für die Analyse gegenwärtiger Entwick
 lungen überaus instruktiv ist.\nFür Neumann ist eine spezifische Form de
 r Angst ein zentraler Faktor\, der Anziehungskraft\, und Entstehung des Fa
 schismus erklären kann\; sein Erfolg aber ist Resultat der Schwäche sein
 er Gegner. Die von Neumann neurotisch genannte Angst entsteht aus dem Zusa
 mmenwirken verschiedener\, namentlich psychologischer\, sozialer und polit
 ischer Entfremdung.\nAnhand von knappen Vorstellungen zentraler Aspekte vo
 n Angst und Politik und darauf gründenden Diskussionsfragen wollen wir ve
 rsuchen\, uns den bis heute nur wenig beachteten Vortrag Neumanns zu ersch
 ließen\, um so nicht allein das Aufkommen von massenfeindlichen Massenbew
 egungen zu verstehen\, sondern auch und vor allen Dingen einen Ausweg zu f
 inden.
CATEGORIES:Diskussion
LOCATION:Nr. z. P.\, Große Kurfürstenstraße 81\, Bielefeld\, Deutschland
X-APPLE-STRUCTURED-LOCATION;VALUE=URI;X-ADDRESS=Große Kurfürstenstraße 8
 1\, Bielefeld\, Deutschland;X-APPLE-RADIUS=100;X-TITLE=Nr. z. P.:geo:0,0
END:VEVENT
BEGIN:VTIMEZONE
TZID:Europe/Berlin
X-LIC-LOCATION:Europe/Berlin
BEGIN:DAYLIGHT
DTSTART:20200329T030000
TZOFFSETFROM:+0100
TZOFFSETTO:+0200
TZNAME:CEST
END:DAYLIGHT
END:VTIMEZONE
END:VCALENDAR