BEGIN:VCALENDAR
VERSION:2.0
PRODID:-//wp-events-plugin.com//7.2.3.1//EN
TZID:Europe/Berlin
X-WR-TIMEZONE:Europe/Berlin
BEGIN:VEVENT
UID:4471@lilabi.net
DTSTART;TZID=Europe/Berlin:20221206T190000
DTEND;TZID=Europe/Berlin:20221206T210000
DTSTAMP:20221122T223723Z
URL:https://www.lilabi.net/events/analyse-und-kritik-des-sommermaerchens-v
 on-2006/
SUMMARY:Analyse und Kritik des Sommermärchens von 2006
DESCRIPTION:Während die „Welt zu Gast bei Freunden“ gewesen sein soll\
 , avancierte ein stolzer „endlich wieder“-Nationalismus zum vorherrsch
 enden Konsens der Bundesrepublik. Diskursive Praktiken der Begeisterung f
 ür eine deutsche Nation werden im Vortrag unter Berücksichtigung politis
 ch-ökonomischer Interessen und der sozialen Verhältnisse kritisch histor
 isiert\, auf ihre andauernden Funktionen hin analysiert und beschwiegenen 
 Ereignissen während der Fußball-WM der Männer von 2006 gegenübergestel
 lt.\n\nEine Veranstaltung der Antinationalen Linken Bielefeld [ALIBI] im R
 ahmen der Veranstaltungsreihe "Boykott Katar".
ATTACH;FMTTYPE=image/jpeg:https://www.lilabi.net/wp-content/uploads/2022/1
 1/layoutfinal-2.jpg
CATEGORIES:Vortrag
LOCATION:Nr. z. P.\, Große Kurfürstenstraße 81\, Bielefeld\, Deutschland
X-APPLE-STRUCTURED-LOCATION;VALUE=URI;X-ADDRESS=Große Kurfürstenstraße 8
 1\, Bielefeld\, Deutschland;X-APPLE-RADIUS=100;X-TITLE=Nr. z. P.:geo:0,0
END:VEVENT
BEGIN:VTIMEZONE
TZID:Europe/Berlin
X-LIC-LOCATION:Europe/Berlin
BEGIN:STANDARD
DTSTART:20221030T020000
TZOFFSETFROM:+0200
TZOFFSETTO:+0100
TZNAME:CET
END:STANDARD
END:VTIMEZONE
END:VCALENDAR