BEGIN:VCALENDAR
VERSION:2.0
PRODID:-//wp-events-plugin.com//7.2.3.1//EN
TZID:Europe/Berlin
X-WR-TIMEZONE:Europe/Berlin
BEGIN:VEVENT
UID:3469@lilabi.net
DTSTART;TZID=Europe/Berlin:20201210T183000
DTEND;TZID=Europe/Berlin:20201210T193000
DTSTAMP:20201209T113114Z
URL:https://www.lilabi.net/events/am-tag-der-menschenrechte-gegen-den-eu-m
 igrationspakt/
SUMMARY:Am Tag der Menschenrechte gegen den EU-Migrationspakt
DESCRIPTION:Kundgebung und Performance\nzum Gedenken an die auf dem Weg nac
 h Europa getöteten\, gestorbenen\, verdursteten und\ngestrandeten Mensche
 n\, die nichts weiter suchen als ihr Menschenrecht auf Leben in dieser Wel
 t.\nWir wollen zum "Tag der Menschenrechte" unsere Wut und Trauer über di
 e fortgesetzte\nVerweigerung des Menschenrechts auf (Über)-Leben von so v
 ielen Menschen zum\nAusdruck zu bringen. Wir wollen unsere Solidarität mi
 t allen Menschen auf der Flucht\nzeigen und deutlich machen\, dass wir nic
 ht aufhören werden\, uns für Rechte für alle\nMenschen einzusetzen.\nWi
 r alle kennen das Notsignal SOS. Im Mttelmeer ist es bittere Realität. Zu
 sammen mit\nvielen anderen Menschen setzen wir uns gegen alle Widerstände
  für die Seenotrettung\nein. NGOs übernehmen die Aufgabe\, der sich euro
 päische Staaten seit Jahren\nentziehen und die damit das Sterben von Mens
 chen billigend\, wenn nicht sogar gezielt\,\nin Kauf nehmen.\nIn den Lager
 n an den EU-Außengrenzen herrschen katastrophale Zustände. Die\nBrände 
 in Moria und auf Samos\, Stürme\, bei denen die Zelte der Geflüchteten e
 infach\nweggespült wurden\, der nahende Winter mit Sturm\, Regen\, und K
 älte zeigen deutlich:\nDie Lager bieten keinen Schutz und müssen dringen
 d evakuiert werden. Kein weiterer\nWinter in den Lagern! Alle Lager schlie
 ßen!\nDer EU-Migrationspakt ist die zynische „Weiter-so“-Antwort auf 
 das Sterben auf der\nFlucht\, die Katastrophe der EU-Hotspots an den Auße
 ngrenzen und das Problem der\nungleichen Lebenschancen. Statt dessen muss 
 es mehr denn je heißen:\n#Leave No One Behind!     #Wärme für alle!
     #disasterpakt\nWir machen weiter\, bis alle Lager evakuiert sind! W
 ir haben Platz!\nKommt – mit den bekannten Vorsichtsmaßnahmen – am\nD
 onnerstag\, 10.12.2020 18:30 zum Bielefelder Rathaus
ATTACH;FMTTYPE=image/jpeg:https://www.lilabi.net/wp-content/uploads/2020/1
 2/Sharepic_10.12._2.png
CATEGORIES:Kundgebung
LOCATION:Am Bielefelder Rathaus\, Niederwall\, Bielefeld\, Deutschland
X-APPLE-STRUCTURED-LOCATION;VALUE=URI;X-ADDRESS=Niederwall\, Bielefeld\, De
 utschland;X-APPLE-RADIUS=100;X-TITLE=Am Bielefelder Rathaus:geo:0,0
END:VEVENT
BEGIN:VTIMEZONE
TZID:Europe/Berlin
X-LIC-LOCATION:Europe/Berlin
BEGIN:STANDARD
DTSTART:20201025T020000
TZOFFSETFROM:+0200
TZOFFSETTO:+0100
TZNAME:CET
END:STANDARD
END:VTIMEZONE
END:VCALENDAR