BEGIN:VCALENDAR
VERSION:2.0
PRODID:-//wp-events-plugin.com//7.2.3.1//EN
TZID:Europe/Berlin
X-WR-TIMEZONE:Europe/Berlin
BEGIN:VEVENT
UID:3565@lilabi.net
DTSTART;TZID=Europe/Berlin:20211003T140000
DTEND;TZID=Europe/Berlin:20211003T170000
DTSTAMP:20210921T181947Z
URL:https://www.lilabi.net/events/alternative-o-woche-workshop-verschwoeru
 ngsmythen-und-antisemitismus/
SUMMARY:Alternative O-Woche Workshop: Verschwörungsmythen und Antisemitism
 us
DESCRIPTION:Als Teil der alternativen O-Woche des Paderborner Bündnis gege
 n Rechts besucht uns das Bündnis Aufstehen gegen Rassismus und führt mit
  uns ihren Workshop zu Verschwörungsmythen und Antisemitismus durch:\n\nV
 erschwörungsmythen haben Hochkonjunktur. Leider hören wir sie auch oft i
 m näheren Umfeld. Auf der Arbeit\, im Sportverein\, in der Familie oder a
 uf der Straße fallen Sprüche\, die uns die Sprache verschlagen. Später 
 ärgern wir uns\, hätten gerne den Mund aufgemacht. Hier setzt dieser Wor
 kshop an. Er soll Menschen in die Lage versetzen\, die Schrecksekunde zu 
 überwinden und Position zu beziehen.\n\nIn diesem interaktiven Seminar be
 leuchten wir Grundlagen und Eigenheiten von Verschwörungserzählungen und
  deren Beziehung zum Antisemitismus. Wir sprechen über typische Argumenta
 tionsmuster und erarbeiten gemeinsam Lösungsansätze\, um in Zukunft schn
 eller und gezielter reagieren zu können. Antisemitischen Welterklärungsv
 ersuchen wollen wir solidarische Alternativen entgegenstellen.\n\nWeitere 
 Informationen zur Kampagne und zum Seminar: www.aufstehen-gegen-rassismus.
 de/kampagne/stammtischkaempferinnen/\n\nWegen der aktuellen Situation bitt
 en wir um eine Anmeldung\, die ihr hier tätigen könnt:\n\nhttps://www.bg
 r-paderborn.de/2021/09/no-love-for-haters-2021/\n\nBitte beachtet auch uns
 er Hygiene-Konzept. Ihr müsst geimpft und negativ getestet sein.
ATTACH;FMTTYPE=image/jpeg:https://www.lilabi.net/wp-content/uploads/2021/0
 9/NoLoveForHaters_WEB6.png
CATEGORIES:Semesterstart,Workshop
LOCATION:BDP Infoladen Paderborn\, Leostraße 75\, Paderborn\, 33098\, Deut
 schland
X-APPLE-STRUCTURED-LOCATION;VALUE=URI;X-ADDRESS=Leostraße 75\, Paderborn\,
  33098\, Deutschland;X-APPLE-RADIUS=100;X-TITLE=BDP Infoladen Paderborn:ge
 o:0,0
END:VEVENT
BEGIN:VTIMEZONE
TZID:Europe/Berlin
X-LIC-LOCATION:Europe/Berlin
BEGIN:DAYLIGHT
DTSTART:20210328T030000
TZOFFSETFROM:+0100
TZOFFSETTO:+0200
TZNAME:CEST
END:DAYLIGHT
END:VTIMEZONE
END:VCALENDAR