BEGIN:VCALENDAR
VERSION:2.0
PRODID:-//wp-events-plugin.com//7.2.3.1//EN
TZID:Europe/Berlin
X-WR-TIMEZONE:Europe/Berlin
BEGIN:VEVENT
UID:3562@lilabi.net
DTSTART;TZID=Europe/Berlin:20210927T190000
DTEND;TZID=Europe/Berlin:20210927T210000
DTSTAMP:20210921T181915Z
URL:https://www.lilabi.net/events/alternative-o-woche-vortrag-rechte-struk
 turen-in-paderborn-und-owl/
SUMMARY:Alternative O-Woche Vortrag: Rechte Strukturen in Paderborn und OWL
DESCRIPTION:Als Teil der alternativen O-Woche des Paderborner Bündnis gege
 n Rechts klären Genoss*innen aus dem BDP Infoladen Paderborn über rechte
  Strukturen auf:\n\nEs gibt kein Ruhiges Hinterland! Die Wahrheit hinter d
 ieser Parole ist leider eine andere als hinlänglich angenommen. Denn gera
 de Orte wie Paderborn mit wenig kritischer Zivilgesellschaft und kleiner a
 ntifaschistischer Bewegung eignen sich für faschistische Propaganda und A
 ktionen. Aus diesem Grund wollen wir im Vortrag wichtige Akteur*innen der 
 extremen Rechten aus dem Raum Paderborn vorstellen und einordnen. Dadurch 
 wollen wir antifaschistischer Gegenwehr eine Grundlage geben und auch euch
  motivieren: Werdet aktiv!\n\nWegen der aktuellen Situation bitten wir um 
 eine Anmeldung\, die ihr hier tätigen könnt:\n\nhttps://www.bgr-paderbor
 n.de/2021/09/no-love-for-haters-2021/\n\nBitte beachtet auch unser Hygiene
 -Konzept. Ihr müsst geimpft und negativ getestet sein.
ATTACH;FMTTYPE=image/jpeg:https://www.lilabi.net/wp-content/uploads/2021/0
 9/NoLoveForHaters_WEB2.png
CATEGORIES:Semesterstart,Vortrag
LOCATION:Sputnik\, Imadstr. 7\, Paderborn\, NRW\, 33102\, Deutschland
X-APPLE-STRUCTURED-LOCATION;VALUE=URI;X-ADDRESS=Imadstr. 7\, Paderborn\, NR
 W\, 33102\, Deutschland;X-APPLE-RADIUS=100;X-TITLE=Sputnik:geo:0,0
END:VEVENT
BEGIN:VTIMEZONE
TZID:Europe/Berlin
X-LIC-LOCATION:Europe/Berlin
BEGIN:DAYLIGHT
DTSTART:20210328T030000
TZOFFSETFROM:+0100
TZOFFSETTO:+0200
TZNAME:CEST
END:DAYLIGHT
END:VTIMEZONE
END:VCALENDAR