BEGIN:VCALENDAR
VERSION:2.0
PRODID:-//wp-events-plugin.com//7.2.3.1//EN
TZID:Europe/Berlin
X-WR-TIMEZONE:Europe/Berlin
BEGIN:VEVENT
UID:3564@lilabi.net
DTSTART;TZID=Europe/Berlin:20211001T190000
DTEND;TZID=Europe/Berlin:20211001T210000
DTSTAMP:20210921T181941Z
URL:https://www.lilabi.net/events/alternative-o-woche-lesung-der-letzte-pr
 ozess/
SUMMARY:Alternative O-Woche Lesung: Der letzte Prozess
DESCRIPTION:Als Teil der alternativen O-Woche des Paderborner Bündnis gege
 n Rechts wird Thomas Breuer aus seinem Buch 'Der letzte Prozess' vorlesen:
 \n\nIn einem Altersheim in Wewelsburg finden mehrere Mord statt. Damit nic
 ht genug: alle Opfer verbindet während des Nationalsozialismus für das K
 Z Niederhagen oder die SS tätig gewesen zu sein. Schnell geraten aktuelle
  Antifaschist*innen in den Fokus der Ermittlungen der Polizei. Spätestens
  als dann im Nachbarbezirk noch ein lange erwarteter Prozess gegen einen e
 hemaligen Auschwitz-Wachmann beginnt\, stellt sich längst nicht mehr nur 
 die Frage\, wer hier eigentlich di*er Mörder*in ist.\n\nDiese Geschichte 
 um die faschistische Vergangenheit und Gegenwart Ostwestfalens erzählt da
 s Buch ‘Der letzte Prozess’ von Thomas Breuer. Bei uns erzählt der Au
 tor vom Buch und liest auch einige Passagen daraus vor.\n\n&nbsp\;\n\nWege
 n der aktuellen Situation bitten wir um eine Anmeldung\, die ihr hier tät
 igen könnt:\n\nhttps://www.bgr-paderborn.de/2021/09/no-love-for-haters-20
 21/\n\nBitte beachtet auch unser Hygiene-Konzept. Ihr müsst geimpft und n
 egativ getestet sein.
ATTACH;FMTTYPE=image/jpeg:https://www.lilabi.net/wp-content/uploads/2021/0
 9/NoLoveForHaters_WEB5.png
CATEGORIES:Buchvorstellung,Lesung,Semesterstart
LOCATION:Raum für Kunst\, Kamp 21\, Paderborn\, NRW\, 33098\, OWL\, Deutsc
 hland
X-APPLE-STRUCTURED-LOCATION;VALUE=URI;X-ADDRESS=Kamp 21\, Paderborn\, NRW\,
  33098\, OWL\, Deutschland;X-APPLE-RADIUS=100;X-TITLE=Raum für Kunst:geo:
 0,0
END:VEVENT
BEGIN:VTIMEZONE
TZID:Europe/Berlin
X-LIC-LOCATION:Europe/Berlin
BEGIN:DAYLIGHT
DTSTART:20210328T030000
TZOFFSETFROM:+0100
TZOFFSETTO:+0200
TZNAME:CEST
END:DAYLIGHT
END:VTIMEZONE
END:VCALENDAR