BEGIN:VCALENDAR
VERSION:2.0
PRODID:-//wp-events-plugin.com//7.2.3.1//EN
TZID:Europe/Berlin
X-WR-TIMEZONE:Europe/Berlin
BEGIN:VEVENT
UID:5709@lilabi.net
DTSTART;TZID=Europe/Berlin:20240622T150000
DTEND;TZID=Europe/Berlin:20240622T200000
DTSTAMP:20240613T133912Z
URL:https://www.lilabi.net/events/alleycat/
SUMMARY:ALLEYCAT
DESCRIPTION:15.00 Treffen am Kulturhaus (hier können Sachen abgelegt werde
 n)\n\n16.00 START auf dem Kessel
ATTACH;FMTTYPE=image/jpeg:https://www.lilabi.net/wp-content/uploads/2024/0
 6/ALLEYCAT-50x50-1-pdf.jpg
CATEGORIES:Sonstiges,Sport
LOCATION:Kulturhaus Bielefeld\, Werner-Bock-Straße 34c\, Bielefeld\, Deuts
 chland
X-APPLE-STRUCTURED-LOCATION;VALUE=URI;X-ADDRESS=Werner-Bock-Straße 34c\, B
 ielefeld\, Deutschland;X-APPLE-RADIUS=100;X-TITLE=Kulturhaus Bielefeld:geo
 :0,0
END:VEVENT
BEGIN:VTIMEZONE
TZID:Europe/Berlin
X-LIC-LOCATION:Europe/Berlin
BEGIN:DAYLIGHT
DTSTART:20240331T030000
TZOFFSETFROM:+0100
TZOFFSETTO:+0200
TZNAME:CEST
END:DAYLIGHT
END:VTIMEZONE
END:VCALENDAR