BEGIN:VCALENDAR
VERSION:2.0
PRODID:-//wp-events-plugin.com//7.2.3.1//EN
TZID:Europe/Berlin
X-WR-TIMEZONE:Europe/Berlin
BEGIN:VEVENT
UID:6351@lilabi.net
DTSTART;TZID=Europe/Berlin:20250906T200000
DTEND;TZID=Europe/Berlin:20250906T235900
DTSTAMP:20250804T155043Z
URL:https://www.lilabi.net/events/album-release-show/
SUMMARY:ALBUM-RELEASE-SHOW
DESCRIPTION:SCHUBLADE PUNK KONZERT\n\n\nALBUM-RELEASE-SHOW von LisaBouvier 
 mit Instabil und Kackschlacht\n\n\nDoors: 20:00 h/ Show: 21:00 h\n\n\nKack
 schlacht (Punk aus BS)\n\nInstabil (Feminist Bier Punk aus H)\n\nLisaBouvi
 er (Riot Punk aus BI)\n
ATTACH;FMTTYPE=image/jpeg:https://www.lilabi.net/wp-content/uploads/2025/0
 8/2025_Releaseshow_LB_skaliert.jpg
CATEGORIES:Konzert
LOCATION:AJZ Bielefeld\, Heeper Str. 132\, 33607 Bielefeld\, Deutschland
X-APPLE-STRUCTURED-LOCATION;VALUE=URI;X-ADDRESS=Heeper Str. 132\, 33607 Bie
 lefeld\, Deutschland;X-APPLE-RADIUS=100;X-TITLE=AJZ Bielefeld:geo:0,0
END:VEVENT
BEGIN:VTIMEZONE
TZID:Europe/Berlin
X-LIC-LOCATION:Europe/Berlin
BEGIN:DAYLIGHT
DTSTART:20250330T030000
TZOFFSETFROM:+0100
TZOFFSETTO:+0200
TZNAME:CEST
END:DAYLIGHT
END:VTIMEZONE
END:VCALENDAR