BEGIN:VCALENDAR
VERSION:2.0
PRODID:-//wp-events-plugin.com//7.2.3.1//EN
TZID:Europe/Berlin
X-WR-TIMEZONE:Europe/Berlin
BEGIN:VEVENT
UID:4367@lilabi.net
DTSTART;TZID=Europe/Berlin:20220731T113000
DTEND;TZID=Europe/Berlin:20220731T160000
DTSTAMP:20220721T122829Z
URL:https://www.lilabi.net/events/aktionstraining-fuer-die-grossaktionen-v
 on-ende-gelaende-und-rheinmetall-entwaffnen/
SUMMARY:Aktionstraining für die Großaktionen von Ende Gelände und Rheinm
 etall Entwaffnen
DESCRIPTION:Blockieren will geübt sein – und deshalb organisieren wir ei
 n Aktionstraining für die Großaktionen in Kassel von Rheinmetall Entwaff
 nen und in Hamburg von Ende Gelände.\n\n&#x25fe\;SONNTAG 31.07. // AB 11:
 30 UHR\n&#x25fe\;AJZ // SPÄTER DRAUSSEN\n\nWas erwartet dich beim Aktions
 training?\n\nIm Aktionstraining lernst du\, was es bedeutet an zivilem Ung
 ehorsam teilzunehmen\, wie du dich darauf am besten vorbereitest und dich 
 während der Aktion verhalten solltest. Das Training richtet sich sowohl a
 n aktionsunerfahrene als auch erfahrene Menschen und soll unsere gemeinsam
 e Handlungsfähigkeit in verschiedenen Situationen auf der Straße erhöhe
 n. Zusätzlich werden wir verschiedene Aktionstechniken\, (schnelle) Entsc
 heidungsfindung in Stresssituationen\, den Umgang mit eigenen Ängsten und
  Grenzen sowie staatlicher Repression behandeln. Du kannst das Gelernte w
 ährend dem Aktionstraining auch gleich ausprobieren.\n\nAuch wenn du selb
 st eher nicht an solchen Aktionen teilnehmen möchtest\, ist es eine gute 
 Möglichkeit\, sich mehr damit auseinanderzusetzen.\n\nIm Anschluss ist Ra
 um\, um Bezugsgruppen für die Aktionen diesen Sommer zu bilden\n\nWir fre
 uen uns auf euch!
ATTACH;FMTTYPE=image/jpeg:https://www.lilabi.net/wp-content/uploads/2022/0
 7/IMG_20220718_163610_087.jpg
CATEGORIES:Aktionstage
LOCATION:AJZ Bielefeld\, Heeper Str. 132\, 33607 Bielefeld\, Deutschland
X-APPLE-STRUCTURED-LOCATION;VALUE=URI;X-ADDRESS=Heeper Str. 132\, 33607 Bie
 lefeld\, Deutschland;X-APPLE-RADIUS=100;X-TITLE=AJZ Bielefeld:geo:0,0
END:VEVENT
BEGIN:VTIMEZONE
TZID:Europe/Berlin
X-LIC-LOCATION:Europe/Berlin
BEGIN:DAYLIGHT
DTSTART:20220327T030000
TZOFFSETFROM:+0100
TZOFFSETTO:+0200
TZNAME:CEST
END:DAYLIGHT
END:VTIMEZONE
END:VCALENDAR