BEGIN:VCALENDAR
VERSION:2.0
PRODID:-//wp-events-plugin.com//7.2.3.1//EN
TZID:Europe/Berlin
X-WR-TIMEZONE:Europe/Berlin
BEGIN:VEVENT
UID:4306@lilabi.net
DTSTART;TZID=Europe/Berlin:20220709T140000
DTEND;TZID=Europe/Berlin:20220709T220000
DTSTAMP:20220626T130726Z
URL:https://www.lilabi.net/events/ajz-tag-der-offenen-tuer/
SUMMARY:AJZ - Tag der offenen Tür
DESCRIPTION:https://ajz-bielefeld.de/\n\nTag der offenen Tür!\n\nWir freue
 n uns auf euch- kommt vorbei!\n\nBitte kommt (selbst)gestestet!
ATTACH;FMTTYPE=image/jpeg:https://www.lilabi.net/wp-content/uploads/2022/0
 6/Tag-der-offenen-Tür-Ajo-Flyer-noch-kleiner.jpg
CATEGORIES:Aktionstage
LOCATION:AJZ Bielefeld\, Heeper Str. 132\, 33607 Bielefeld\, Deutschland
X-APPLE-STRUCTURED-LOCATION;VALUE=URI;X-ADDRESS=Heeper Str. 132\, 33607 Bie
 lefeld\, Deutschland;X-APPLE-RADIUS=100;X-TITLE=AJZ Bielefeld:geo:0,0
END:VEVENT
BEGIN:VTIMEZONE
TZID:Europe/Berlin
X-LIC-LOCATION:Europe/Berlin
BEGIN:DAYLIGHT
DTSTART:20220327T030000
TZOFFSETFROM:+0100
TZOFFSETTO:+0200
TZNAME:CEST
END:DAYLIGHT
END:VTIMEZONE
END:VCALENDAR