BEGIN:VCALENDAR
VERSION:2.0
PRODID:-//wp-events-plugin.com//7.2.3.1//EN
TZID:Europe/Berlin
X-WR-TIMEZONE:Europe/Berlin
BEGIN:VEVENT
UID:5710@lilabi.net
DTSTART;TZID=Europe/Berlin:20240622T200000
DTEND;TZID=Europe/Berlin:20240622T234500
DTSTAMP:20240613T134147Z
URL:https://www.lilabi.net/events/ajz-kneipe-nach-dem-alleycat/
SUMMARY:AJZ Kneipe (nach dem Alleycat)
DESCRIPTION:Nach dem Alleycat verantstalten wir auch noch eine AJZ Kneipe a
 b 20H\n\nWir werden Siebe zum drucken aufbauen. Bringt eure eigenen shirts
  und Stoffe mit dann können wir gemeinsam das Alleycatmotiv vielleicht au
 ch andere Motive siebdrucken!
ATTACH;FMTTYPE=image/jpeg:https://www.lilabi.net/wp-content/uploads/2024/0
 6/AJZ-KNEIPE-pdf.jpg
CATEGORIES:DIY,Kneipe,Küfa,Werkstatt
LOCATION:AJZ Bielefeld\, Heeper Str. 132\, 33607 Bielefeld\, Deutschland
X-APPLE-STRUCTURED-LOCATION;VALUE=URI;X-ADDRESS=Heeper Str. 132\, 33607 Bie
 lefeld\, Deutschland;X-APPLE-RADIUS=100;X-TITLE=AJZ Bielefeld:geo:0,0
END:VEVENT
BEGIN:VTIMEZONE
TZID:Europe/Berlin
X-LIC-LOCATION:Europe/Berlin
BEGIN:DAYLIGHT
DTSTART:20240331T030000
TZOFFSETFROM:+0100
TZOFFSETTO:+0200
TZNAME:CEST
END:DAYLIGHT
END:VTIMEZONE
END:VCALENDAR