BEGIN:VCALENDAR
VERSION:2.0
PRODID:-//wp-events-plugin.com//7.2.3.1//EN
TZID:Europe/Berlin
X-WR-TIMEZONE:Europe/Berlin
BEGIN:VEVENT
UID:5869@lilabi.net
DTSTART;TZID=Europe/Berlin:20250204T200000
DTEND;TZID=Europe/Berlin:20250204T213000
DTSTAMP:20250130T162537Z
URL:https://www.lilabi.net/events/afd-verbot-jetzt/
SUMMARY:AFD Verbot Jetzt?
DESCRIPTION:Es ist ruhig geworden um die Initiative von einigen Abgeordenet
 en des deutschen Bundestages\, die einen Beschluss über einen Antrag herb
 eiführen wollten\, der ein Verbotsverfahren der Partei AFD ermöglichen w
 ürde.\n\nMit Prof. Dr. Andreas Fisahn werden wir am 4. Februar 2025 gemei
 nsam erörtern\, welche juristischen Fragen mit Blick auf ein mögliches V
 erbotsverfahren aufgeworfen würden. Zugleich würden wir versuchen bereit
 s erfolgte und erfolgreiche\, sowie gescheiterte Verbotsverfahren gegen Pa
 rteien um ein schärferes Bild davon zu erhalten\, wo wir 2025 stehen.\n\n
 In die Debatte einführen würden wir zur fundierteren Beurteilung auf wel
 chen ideologischen Grundlagen die politischen Anliegen und Ambitionen der 
 AFD beruhen und in welchem Verhältnis sie zu rechtspopulistischen Parteie
 n in anderen europäischen Ländern stehen.
ATTACH;FMTTYPE=image/jpeg:https://www.lilabi.net/wp-content/uploads/2025/0
 1/OnlineAnzeige_AFD_Verbot_klein.jpg
CATEGORIES:Diskussion
LOCATION:Buchladen Eulenspiegel\, Hagenbruchstr. 7 \, Bielefeld\, Deutschla
 nd
X-APPLE-STRUCTURED-LOCATION;VALUE=URI;X-ADDRESS=Hagenbruchstr. 7 \, Bielefe
 ld\, Deutschland;X-APPLE-RADIUS=100;X-TITLE=Buchladen Eulenspiegel:geo:0,0
END:VEVENT
BEGIN:VTIMEZONE
TZID:Europe/Berlin
X-LIC-LOCATION:Europe/Berlin
BEGIN:STANDARD
DTSTART:20241027T020000
TZOFFSETFROM:+0200
TZOFFSETTO:+0100
TZNAME:CET
END:STANDARD
END:VTIMEZONE
END:VCALENDAR