BEGIN:VCALENDAR
VERSION:2.0
PRODID:-//wp-events-plugin.com//7.2.3.1//EN
TZID:Europe/Berlin
X-WR-TIMEZONE:Europe/Berlin
BEGIN:VEVENT
UID:4702@lilabi.net
DTSTART;TZID=Europe/Berlin:20230330T193000
DTEND;TZID=Europe/Berlin:20230330T213000
DTSTAMP:20230320T201928Z
URL:https://www.lilabi.net/events/50-jahre-autonome-zentren-in-wuppertal-5
 0-jahre-selbstverwaltete-zentren-und-soziale-bewegungen/
SUMMARY:50 Jahre Autonome Zentren in Wuppertal – 50 Jahre selbstverwaltet
 e Zentren und soziale Bewegungen
DESCRIPTION:MOBI-VA (bitte kommt getestet)\n\n50 Jahre kein Tag ohne…\n\n
 Im Jahr 1973 schwappte die bundesweite Jugendzentrumsbewegung auch nach Wu
 ppertal. Wie Zeitzeug*innen berichten\, war ein wichtiger Motivator für e
 igene selbstverwaltete Räume eine Veranstaltung der Berliner Rauch-Haus-B
 esetzer*innen in Wuppertal. Auch die Scherben weilten damals in Wuppertal:
  Es ist von „Zeitzeug*innen“ überliefert\, dass die Scherben auf den 
 Schusterplatz in der Elberfelder-Nordstadt ein Konzert gaben und im Anschl
 uss das Opernhaus besetzten\, um der Forderung nach selbstverwalteten (Jug
 end)Zentren Nachdruck zu\nverleihen.\nAm 19. Mai 1973 gründete sich folge
 richtig die Initiative für ein selbstverwaltetes Jugendzentrum ISJ\, am 1
 7. September 1973 besetzten über hundert Jugendliche eine alte Villa im Z
 ooviertel und forderten so ein selbstverwaltetes Jugendzentrum.\nDas war g
 leichzeitig die erste Hausbesetzung in Wuppertal nach 1945. Auch wenn die 
 Polizei schnell die alte Villa an der Hubertusallee 16 räumte und die Hau
 sbesetzer*innen wegen „Hausfriedensbruch“ vor Gericht zerrte\, war die
  Forderung nach einem selbstverwalteten Zentrum nicht mehr totzukriegen 
 – bis heute!\n\nUnser geliebtes Haus soll uns jetzt genommen werden\, es
  soll durch einen Ditib-Komplex ersetzt werden\, der Zielbeschluss wurde i
 m Wuppertaler Stadtrat gesetzt.\nSo reichen die Parteien wie die CDU\, die
  FDP\, die SPD und die Grünen\, durch die fortlaufende Verharmlosung der 
 DITIB\, Erdogan mal wieder die Hand. Das werden wir nicht einfach so hinne
 hmen! Der Kampf um unser Haus ist noch nicht zu Ende!\n\nSchreibt’s an j
 ede Häuserwand\, das AZ bleibt stehn!\nWir lassen uns nicht verdrängen u
 nd kämpfen für eine Gathe für alle! Wir überlassen Erdoğans DITIB\nni
 cht den Stadtteil!
CATEGORIES:Infoveranstaltung,Soli
LOCATION:AJZ Bielefeld\, Heeper Str. 132\, 33607 Bielefeld\, Deutschland
X-APPLE-STRUCTURED-LOCATION;VALUE=URI;X-ADDRESS=Heeper Str. 132\, 33607 Bie
 lefeld\, Deutschland;X-APPLE-RADIUS=100;X-TITLE=AJZ Bielefeld:geo:0,0
END:VEVENT
BEGIN:VTIMEZONE
TZID:Europe/Berlin
X-LIC-LOCATION:Europe/Berlin
BEGIN:DAYLIGHT
DTSTART:20230326T030000
TZOFFSETFROM:+0100
TZOFFSETTO:+0200
TZNAME:CEST
END:DAYLIGHT
END:VTIMEZONE
END:VCALENDAR