BEGIN:VCALENDAR
VERSION:2.0
PRODID:-//wp-events-plugin.com//7.2.3.1//EN
TZID:Europe/Berlin
X-WR-TIMEZONE:Europe/Berlin
BEGIN:VEVENT
UID:5625@lilabi.net
DTSTART;TZID=Europe/Berlin:20240501T173000
DTEND;TZID=Europe/Berlin:20240501T220000
DTSTAMP:20240422T123224Z
URL:https://www.lilabi.net/events/1-mai-grillfest/
SUMMARY:1. Mai Grillfest
DESCRIPTION:Nachdem wir am 1. Mai unseren Widerstand auf die Straße getrag
 en und spannende Gespräche geführt haben wollen wir den Kampftag der arb
 eitenden Klasse natürlich auch gebührend feiern. Dafür werden wir im Ga
 rten grillen\, günstige Cocktails anbieten und vieles mehr. Kommt vorbei 
 und bringt gerne eine kleine Spende fürs Grillen oder selber was fürs Bu
 ffet mit. Wir freuen uns auf euch!
CATEGORIES:Party
LOCATION:DKP Büro\, August-Bebel-Straße 105\, Bielefeld\, Deutschland
X-APPLE-STRUCTURED-LOCATION;VALUE=URI;X-ADDRESS=August-Bebel-Straße 105\, 
 Bielefeld\, Deutschland;X-APPLE-RADIUS=100;X-TITLE=DKP Büro:geo:0,0
END:VEVENT
BEGIN:VTIMEZONE
TZID:Europe/Berlin
X-LIC-LOCATION:Europe/Berlin
BEGIN:DAYLIGHT
DTSTART:20240331T030000
TZOFFSETFROM:+0100
TZOFFSETTO:+0200
TZNAME:CEST
END:DAYLIGHT
END:VTIMEZONE
END:VCALENDAR